BEGIN:VCALENDAR
VERSION:2.0
PRODID:-//Norsk Tannpleierforenings medlemsside - ECPv6.15.20//NONSGML v1.0//EN
CALSCALE:GREGORIAN
METHOD:PUBLISH
X-WR-CALNAME:Norsk Tannpleierforenings medlemsside
X-ORIGINAL-URL:https://tannpleierforeningen.no
X-WR-CALDESC:Arrangement for Norsk Tannpleierforenings medlemsside
REFRESH-INTERVAL;VALUE=DURATION:PT1H
X-Robots-Tag:noindex
X-PUBLISHED-TTL:PT1H
BEGIN:VTIMEZONE
TZID:Europe/Oslo
BEGIN:DAYLIGHT
TZOFFSETFROM:+0100
TZOFFSETTO:+0200
TZNAME:CEST
DTSTART:20210328T010000
END:DAYLIGHT
BEGIN:STANDARD
TZOFFSETFROM:+0200
TZOFFSETTO:+0100
TZNAME:CET
DTSTART:20211031T010000
END:STANDARD
BEGIN:DAYLIGHT
TZOFFSETFROM:+0100
TZOFFSETTO:+0200
TZNAME:CEST
DTSTART:20220327T010000
END:DAYLIGHT
BEGIN:STANDARD
TZOFFSETFROM:+0200
TZOFFSETTO:+0100
TZNAME:CET
DTSTART:20221030T010000
END:STANDARD
BEGIN:DAYLIGHT
TZOFFSETFROM:+0100
TZOFFSETTO:+0200
TZNAME:CEST
DTSTART:20230326T010000
END:DAYLIGHT
BEGIN:STANDARD
TZOFFSETFROM:+0200
TZOFFSETTO:+0100
TZNAME:CET
DTSTART:20231029T010000
END:STANDARD
BEGIN:DAYLIGHT
TZOFFSETFROM:+0100
TZOFFSETTO:+0200
TZNAME:CEST
DTSTART:20240331T010000
END:DAYLIGHT
BEGIN:STANDARD
TZOFFSETFROM:+0200
TZOFFSETTO:+0100
TZNAME:CET
DTSTART:20241027T010000
END:STANDARD
BEGIN:DAYLIGHT
TZOFFSETFROM:+0100
TZOFFSETTO:+0200
TZNAME:CEST
DTSTART:20250330T010000
END:DAYLIGHT
BEGIN:STANDARD
TZOFFSETFROM:+0200
TZOFFSETTO:+0100
TZNAME:CET
DTSTART:20251026T010000
END:STANDARD
END:VTIMEZONE
BEGIN:VEVENT
DTSTART;VALUE=DATE:20240208
DTEND;VALUE=DATE:20240210
DTSTAMP:20260421T122723
CREATED:20230803T091025Z
LAST-MODIFIED:20230803T091048Z
UID:10000469-1707350400-1707523199@tannpleierforeningen.no
SUMMARY:NOFOBI seminar 2024
DESCRIPTION:NOFOBI Norsk forening for odontofobi arrangerer årlig seminar i februar. Påmelding og mer info finner du på nettsidene deres.
URL:https://tannpleierforeningen.no/aktivitetskalender/nofobi-seminar-2024/
LOCATION:Oslo\, Norway
ORGANIZER;CN="NOFOBI":MAILTO:sekretar@nofobi.no
END:VEVENT
BEGIN:VEVENT
DTSTART;TZID=Europe/Oslo:20230907T080000
DTEND;TZID=Europe/Oslo:20230907T100000
DTSTAMP:20260421T122723
CREATED:20230822T095841Z
LAST-MODIFIED:20230822T095841Z
UID:10000471-1694073600-1694080800@tannpleierforeningen.no
SUMMARY:Frokostseminar om helsepersonell og et godt arbeidsliv
DESCRIPTION:Unio arrangerer frokostseminar på Kulturhuset(Youngsgate 6) i Oslo \nNorge har et økende behov for å beholde og rekruttere helsepersonell\, men samtidig påpeker personellet at det stadig blir mer press på ansatte og tjenestene. Hva skal til for å skape et godt og inkluderende arbeidsliv på kort og på lang sikt? Hvilke trusler oppleves og hvilke løsninger har vi? \n  \nles mer om arrangementet og meld deg på her
URL:https://tannpleierforeningen.no/aktivitetskalender/frokostseminar-om-helsepersonell-og-et-godt-arbeidsliv/
LOCATION:Oslo\, Norway
CATEGORIES:Kurs
ATTACH;FMTTYPE=image/png:https://tannpleierforeningen.no/wp-content/uploads/unio_logo-e1541598821375.png
END:VEVENT
BEGIN:VEVENT
DTSTART;VALUE=DATE:20230830
DTEND;VALUE=DATE:20230902
DTSTAMP:20260421T122723
CREATED:20230515T085313Z
LAST-MODIFIED:20230515T090109Z
UID:10000344-1693353600-1693612799@tannpleierforeningen.no
SUMMARY:Nordisk forening for funksjonshemmede og oral helse konferanse i Oslo
DESCRIPTION:Kjære kollegaer og venner\, \nNFH norsk seksjon (nordisk forening for funksjonshemmede og oral helse) har gleden av å invitere til kurs 30. august – 1. september 2023. Kongressen vil bli holdt på Clarion Hotell Oslo. Programmet omhandler hvordan tannhelseteamet kan avdekke omsorgssvikt og seksuelle overgrep\, samt tannbehandling hos de med spesielle behov. Vi har fått med oss velkjente foredragsholdere fra både inn- og utland. Kurset passer for alle yrkesgrupper i tannhelseteamet\, både for dere som jobber i offentlig sektor og i privat sektor. Meld deg på her. \nSneakpeak på programmet: \n– «Disclosing sexual abuse – The importance of talking with children» \nLinda Renate Kvalvik \n– «Coping After Sexual Abuse: In Everyday Life and in the Dental Chair» \nIngar Tangvik Hvalvik og Martin Hristov \n– «The Dental Team and Children Referred to Child Advocacy Centres and Child Welfare Services” \nAnne Rønneberg og Julie Toft \n– «Long Term Oral and Dental Complications After Young Age Cancer» \nKristin Eidal Tanem \n– «Autism Spectrum Disorders\, Barriers to Care» \nWendy Bellis \nVi gleder oss til kurs og håper mange vil være med. \nEarly Bird til 15. mai 2023. \nPåmeldingsfrist 1. juli. \nFor mer informasjon og fullt program\, se lenke: \nhttps://www.nfh-nordic2023.com/
URL:https://tannpleierforeningen.no/aktivitetskalender/nordisk-forening-for-funksjonshemmede-og-oral-helse-konferanse-i-oslo/
LOCATION:Oslo\, Norway
CATEGORIES:Kurs
END:VEVENT
BEGIN:VEVENT
DTSTART;VALUE=DATE:20230822
DTEND;VALUE=DATE:20230825
DTSTAMP:20260421T122723
CREATED:20230417T093436Z
LAST-MODIFIED:20230417T093436Z
UID:10000342-1692662400-1692921599@tannpleierforeningen.no
SUMMARY:Hovedtillitsvalgtsamling
DESCRIPTION:Mer informasjon er sendt til hovedtillitsvalgte direkte.\nSamlingen blir på Lily Country club\, Kløfta
URL:https://tannpleierforeningen.no/aktivitetskalender/hovedtillitsvalgtsamling/
LOCATION:Oslo\, Norway
CATEGORIES:Kurs,Lokalavdeling,Tillitsvalgtopplæring
ATTACH;FMTTYPE=image/jpeg:https://tannpleierforeningen.no/wp-content/uploads/om-tannpleierforeningen-norge.jpg
ORGANIZER;CN="Norsk Tannpleierforening":MAILTO:post@tannpleier.no
END:VEVENT
BEGIN:VEVENT
DTSTART;VALUE=DATE:20230215
DTEND;VALUE=DATE:20230217
DTSTAMP:20260421T122723
CREATED:20221213T124938Z
LAST-MODIFIED:20230209T093439Z
UID:10000336-1676419200-1676591999@tannpleierforeningen.no
SUMMARY:Hovedtillitsvalgtsamling
DESCRIPTION:Mer informasjon er sendt til hovedtillitsvalgte direkte.
URL:https://tannpleierforeningen.no/aktivitetskalender/tillitsvalgtsamling-2/
LOCATION:Oslo\, Norway
CATEGORIES:Kurs,Lokalavdeling,Tillitsvalgtopplæring
ATTACH;FMTTYPE=image/jpeg:https://tannpleierforeningen.no/wp-content/uploads/om-tannpleierforeningen-norge.jpg
ORGANIZER;CN="Norsk Tannpleierforening":MAILTO:post@tannpleier.no
END:VEVENT
BEGIN:VEVENT
DTSTART;VALUE=DATE:20221214
DTEND;VALUE=DATE:20221215
DTSTAMP:20260421T122723
CREATED:20221213T125043Z
LAST-MODIFIED:20221213T125043Z
UID:10000337-1670976000-1671062399@tannpleierforeningen.no
SUMMARY:Intervjuer av ny redaktør i Tannstikka
DESCRIPTION:
URL:https://tannpleierforeningen.no/aktivitetskalender/intervjuer-av-ny-redaktor-i-tannstikka/
LOCATION:Oslo\, Norway
CATEGORIES:Møte
ATTACH;FMTTYPE=image/jpeg:https://tannpleierforeningen.no/wp-content/uploads/Tannstikka_6_22_nett-1-scaled.jpg
END:VEVENT
BEGIN:VEVENT
DTSTART;VALUE=DATE:20221109
DTEND;VALUE=DATE:20221111
DTSTAMP:20260421T122723
CREATED:20220905T125130Z
LAST-MODIFIED:20221003T101450Z
UID:10000440-1667952000-1668124799@tannpleierforeningen.no
SUMMARY:Tillitsvalgtsamling og lokalleder samling
DESCRIPTION:Agenda dag 2 vil være felles for  Lokalledere\, hovedtillitsvalgte og plasstillitsvalgte i fylkene. I fellesskap vil vi vurdere områder disse kan jobbe sammen på. Dette er del av arbeidet med å styrke Tannpleierforeningen og jobben vi gjør overfor medlemmene. \n  \nMer informasjon kommer når datoen nærmer seg.
URL:https://tannpleierforeningen.no/aktivitetskalender/tillitsvalgtsamling/
LOCATION:Oslo\, Norway
CATEGORIES:Kurs,Lokalavdeling,Tillitsvalgtopplæring
ATTACH;FMTTYPE=image/jpeg:https://tannpleierforeningen.no/wp-content/uploads/om-tannpleierforeningen-norge.jpg
ORGANIZER;CN="Norsk Tannpleierforening":MAILTO:post@tannpleier.no
END:VEVENT
BEGIN:VEVENT
DTSTART;VALUE=DATE:20220827
DTEND;VALUE=DATE:20220829
DTSTAMP:20260421T122723
CREATED:20220609T112925Z
LAST-MODIFIED:20220609T112925Z
UID:10000417-1661558400-1661731199@tannpleierforeningen.no
SUMMARY:Studenttillitsvalgtsamling i Unio
DESCRIPTION:
URL:https://tannpleierforeningen.no/aktivitetskalender/studenttillitsvalgtsamling-i-unio/
LOCATION:Oslo\, Norway
CATEGORIES:Tillitsvalgtopplæring
END:VEVENT
END:VCALENDAR