BEGIN:VCALENDAR
VERSION:2.0
PRODID:-//Norsk Tannpleierforenings medlemsside - ECPv6.15.20//NONSGML v1.0//EN
CALSCALE:GREGORIAN
METHOD:PUBLISH
X-ORIGINAL-URL:https://tannpleierforeningen.no
X-WR-CALDESC:Arrangement for Norsk Tannpleierforenings medlemsside
REFRESH-INTERVAL;VALUE=DURATION:PT1H
X-Robots-Tag:noindex
X-PUBLISHED-TTL:PT1H
BEGIN:VTIMEZONE
TZID:Europe/Oslo
BEGIN:DAYLIGHT
TZOFFSETFROM:+0100
TZOFFSETTO:+0200
TZNAME:CEST
DTSTART:20230326T010000
END:DAYLIGHT
BEGIN:STANDARD
TZOFFSETFROM:+0200
TZOFFSETTO:+0100
TZNAME:CET
DTSTART:20231029T010000
END:STANDARD
BEGIN:DAYLIGHT
TZOFFSETFROM:+0100
TZOFFSETTO:+0200
TZNAME:CEST
DTSTART:20240331T010000
END:DAYLIGHT
BEGIN:STANDARD
TZOFFSETFROM:+0200
TZOFFSETTO:+0100
TZNAME:CET
DTSTART:20241027T010000
END:STANDARD
BEGIN:DAYLIGHT
TZOFFSETFROM:+0100
TZOFFSETTO:+0200
TZNAME:CEST
DTSTART:20250330T010000
END:DAYLIGHT
BEGIN:STANDARD
TZOFFSETFROM:+0200
TZOFFSETTO:+0100
TZNAME:CET
DTSTART:20251026T010000
END:STANDARD
END:VTIMEZONE
BEGIN:VEVENT
DTSTART;VALUE=DATE:20240407
DTEND;VALUE=DATE:20240410
DTSTAMP:20260421T174311
CREATED:20230606T064516Z
LAST-MODIFIED:20240405T063301Z
UID:10000461-1712448000-1712707199@tannpleierforeningen.no
SUMMARY:Svenske TandhygienistDagerna
DESCRIPTION:Sveriges Tandhygienistförening arrangerar årligen de både välbesökta och uppskattade TandhygienistDagarna med föreläsningar\, aktuellt vetenskapligt program\, dentalutställning och ett högklassigt socialt program. \nTandhygienistDagarna 2024 kommer att äga rum på Svenska Mässan i Göteborg den 7–9 april. \nTandhygienistDagarna annonseras fortlöpande i TandhygienistTidningen\, på Facebook och här på tandhygienistdagarna.se. \nMer informasjon på Sveriges Tandhygienistförening \nTandhygienistforening/tandhygienistdagar/tandhygienistdagarna-2024/
URL:https://tannpleierforeningen.no/aktivitetskalender/svenske-tandhygienistdagerna/
LOCATION:Gøteborg\, Sverige
CATEGORIES:Kurs
ATTACH;FMTTYPE=image/jpeg:https://tannpleierforeningen.no/wp-content/uploads/svenske-tandhygienister.jpg
END:VEVENT
END:VCALENDAR