BEGIN:VCALENDAR
VERSION:2.0
PRODID:-//Norsk Tannpleierforenings medlemsside - ECPv6.15.20//NONSGML v1.0//EN
CALSCALE:GREGORIAN
METHOD:PUBLISH
X-WR-CALNAME:Norsk Tannpleierforenings medlemsside
X-ORIGINAL-URL:https://tannpleierforeningen.no
X-WR-CALDESC:Arrangement for Norsk Tannpleierforenings medlemsside
REFRESH-INTERVAL;VALUE=DURATION:PT1H
X-Robots-Tag:noindex
X-PUBLISHED-TTL:PT1H
BEGIN:VTIMEZONE
TZID:Europe/Oslo
BEGIN:DAYLIGHT
TZOFFSETFROM:+0100
TZOFFSETTO:+0200
TZNAME:CEST
DTSTART:20250330T010000
END:DAYLIGHT
BEGIN:STANDARD
TZOFFSETFROM:+0200
TZOFFSETTO:+0100
TZNAME:CET
DTSTART:20251026T010000
END:STANDARD
BEGIN:DAYLIGHT
TZOFFSETFROM:+0100
TZOFFSETTO:+0200
TZNAME:CEST
DTSTART:20260329T010000
END:DAYLIGHT
BEGIN:STANDARD
TZOFFSETFROM:+0200
TZOFFSETTO:+0100
TZNAME:CET
DTSTART:20261025T010000
END:STANDARD
BEGIN:DAYLIGHT
TZOFFSETFROM:+0100
TZOFFSETTO:+0200
TZNAME:CEST
DTSTART:20270328T010000
END:DAYLIGHT
BEGIN:STANDARD
TZOFFSETFROM:+0200
TZOFFSETTO:+0100
TZNAME:CET
DTSTART:20271031T010000
END:STANDARD
END:VTIMEZONE
BEGIN:VEVENT
DTSTART;TZID=Europe/Oslo:20260528T160000
DTEND;TZID=Europe/Oslo:20260528T203000
DTSTAMP:20260419T152139
CREATED:20260327T114510Z
LAST-MODIFIED:20260327T120358Z
UID:10000549-1779984000-1780000200@tannpleierforeningen.no
SUMMARY:Kurs: Moderne minimalinvasiv perio-og profylakse-Bodø
DESCRIPTION:Unident arrangerer kurs i Bodø: \n28. mai 2026\nKURS – Moderne minimalinvasiv perio og profylakse-behandling\n\n\n\n\nTime\n16:00 – 20:30\nKostnad\nkr 1.600\,- (inkl. enkel bevertning og diplom)\nMaks antall\n12\nSiste påmeldingsdag\n21. mai 2026\nSted\n\n\n\n\nSted\nOris Dental AS\, Dronningensgate 102\, 8006 Bodø\n\n\n\n\nhttps://unident.no/kurs/260528-no-kurs-profylakse-bodo\n\n\n\n\n\n\n\nUltralydscaling og Airpolishing\nVi vil gå inn på viktigheten av å forstå biofilmen og hvordan den påvirker oral- og generell helse samt belyse moderne teknologier og behandlingsformer\, forebygging og behandling av periodontitt\, mucositt og peri-implantitt. Vi følger forskningsbaserte metoder og protokoller for best mulig minimalinvasiv behandling. \n\nPeriopolish\, sub og supragingival (full mouth cleaning)\nAirpolish\, muligheter og behandling.\nNy ultralydteknologi og hvordan dette fungerer i praksis.\nSub og supragingival utralydscaling og optimal bruk av de vanligste spissene.\n\nPROGRAM\nTeori: \n\nBiofilm\nProtokoll\nPeriopolish\nAirpolish\nIpiezo ultralyd\nHygiene og smittevern\n\nHands-On: \n\nPraktisk gjennomgang av protokoll\nBruk av periopolish på modell\nBruk av airpolish på modell\nIPiezo Ultralydscaling på modell eller om mulig på pasient\n\nPopulært kurs\, få plasser! \n 
URL:https://tannpleierforeningen.no/aktivitetskalender/kurs-moderne-minimalinvasiv-perio-og-profylakse-bodo/
LOCATION:Bodø\, Norway
CATEGORIES:Kurs
ATTACH;FMTTYPE=image/webp:https://tannpleierforeningen.no/wp-content/uploads/linda-k-behandl.webp
END:VEVENT
BEGIN:VEVENT
DTSTART;TZID=Europe/Oslo:20260617T160000
DTEND;TZID=Europe/Oslo:20260617T203000
DTSTAMP:20260419T152139
CREATED:20260327T115907Z
LAST-MODIFIED:20260327T120507Z
UID:10000550-1781712000-1781728200@tannpleierforeningen.no
SUMMARY:Kurs: Moderne minimalinvasiv perio-og profylakse-Tromsø
DESCRIPTION:Unident arrangerer kurs i Tromsø: \n17. juni\nKURS – Moderne minimalinvasiv perio og profylakse-behandling\n\n\n\n\nTime\n16:00 – 20:30\nKostnad\nkr 1.600\,- (inkl. enkel bevertning og diplom)\nMaks antall\n12\nSiste påmeldingsdag\n11. juni 2026\n\n\n\n\nSted\n\n\nSted\nTromsø (Kurslokale meddeles nærmere kursdato)\n\n\n\n\n\nhttps://unident.no/kurs/260617-no-kurs-profylakse-tromso\n\n\n\n\n\n\nUltralydscaling og Airpolishing\nVi vil gå inn på viktigheten av å forstå biofilmen og hvordan den påvirker oral- og generell helse samt belyse moderne teknologier og behandlingsformer\, forebygging og behandling av periodontitt\, mucositt og peri-implantitt. Vi følger forskningsbaserte metoder og protokoller for best mulig minimalinvasiv behandling. \n\nPeriopolish\, sub og supragingival (full mouth cleaning)\nAirpolish\, muligheter og behandling.\nNy ultralydteknologi og hvordan dette fungerer i praksis.\nSub og supragingival utralydscaling og optimal bruk av de vanligste spissene.\n\nPROGRAM\nTeori: \n\nBiofilm\nProtokoll\nPeriopolish\nAirpolish\nIpiezo ultralyd\nHygiene og smittevern\n\nHands-On: \n\nPraktisk gjennomgang av protokoll\nBruk av periopolish på modell\nBruk av airpolish på modell\nIPiezo Ultralydscaling på modell eller om mulig på pasient\n\nPopulært kurs\, få plasser! \n 
URL:https://tannpleierforeningen.no/aktivitetskalender/kurs-moderne-minimalinvasiv-perio-og-profylakse-tromso/
LOCATION:Tromsø
CATEGORIES:Kurs
ATTACH;FMTTYPE=image/webp:https://tannpleierforeningen.no/wp-content/uploads/linda-k-behandl.webp
END:VEVENT
END:VCALENDAR