BEGIN:VCALENDAR
VERSION:2.0
PRODID:-//Norsk Tannpleierforenings medlemsside - ECPv6.15.20//NONSGML v1.0//EN
CALSCALE:GREGORIAN
METHOD:PUBLISH
X-WR-CALNAME:Norsk Tannpleierforenings medlemsside
X-ORIGINAL-URL:https://tannpleierforeningen.no
X-WR-CALDESC:Arrangement for Norsk Tannpleierforenings medlemsside
REFRESH-INTERVAL;VALUE=DURATION:PT1H
X-Robots-Tag:noindex
X-PUBLISHED-TTL:PT1H
BEGIN:VTIMEZONE
TZID:Europe/Oslo
BEGIN:DAYLIGHT
TZOFFSETFROM:+0100
TZOFFSETTO:+0200
TZNAME:CEST
DTSTART:20210328T010000
END:DAYLIGHT
BEGIN:STANDARD
TZOFFSETFROM:+0200
TZOFFSETTO:+0100
TZNAME:CET
DTSTART:20211031T010000
END:STANDARD
BEGIN:DAYLIGHT
TZOFFSETFROM:+0100
TZOFFSETTO:+0200
TZNAME:CEST
DTSTART:20220327T010000
END:DAYLIGHT
BEGIN:STANDARD
TZOFFSETFROM:+0200
TZOFFSETTO:+0100
TZNAME:CET
DTSTART:20221030T010000
END:STANDARD
BEGIN:DAYLIGHT
TZOFFSETFROM:+0100
TZOFFSETTO:+0200
TZNAME:CEST
DTSTART:20230326T010000
END:DAYLIGHT
BEGIN:STANDARD
TZOFFSETFROM:+0200
TZOFFSETTO:+0100
TZNAME:CET
DTSTART:20231029T010000
END:STANDARD
END:VTIMEZONE
BEGIN:VEVENT
DTSTART;VALUE=DATE:20221001
DTEND;VALUE=DATE:20221101
DTSTAMP:20260423T093621
CREATED:20220913T110656Z
LAST-MODIFIED:20220913T110754Z
UID:10000437-1664582400-1667260799@tannpleierforeningen.no
SUMMARY:Stopptober
DESCRIPTION:Stopptober er en 28-dagers masseoppfordring om å slutte med røyk og snus. Helsepersonell\, kommuner og frisklivssentraler oppfordres til å bruke anledningen til å ta opp røykeslutt. \nMålet med Stopptober\nMålet med Stopptober er å motivere dem som røyker og snuser til å gjøre et slutteforsøk i oktober og klare seg gjennom 28 dager. Dersom man kommer gjennom 28 dager uten røyk\, har man fem ganger så stor sjanse for å lykkes i å slutte for godt. Det kan også være enklere å slutte hvis man føler at man tar del i noe større enn seg selv. Vi ønsker å inspirere til å slutte i fellesskap. \nDu kan laste ned materiell fra Helsedirektoratets side eller bestille materiell. \nBestill materiell – ny nettbutikk\nI år kan du bestille Stopptober-materiell direkte fra vår nye nettbutikk\, Stopp-Shop. Ved første innlogging oppretter du en gratis brukerkonto\, så kan du enkelt logge deg inn og bestille det du trenger for kampanjeperioden. På nettsiden ligger alt fra buttons og flyers til plakater. \nStopp-Shop startside (bsdigital.no)\n 
URL:https://tannpleierforeningen.no/aktivitetskalender/stopptober/
CATEGORIES:Markeringsdag
ATTACH;FMTTYPE=image/jpeg:https://tannpleierforeningen.no/wp-content/uploads/Stopptober-materiell.jpg
END:VEVENT
END:VCALENDAR