BEGIN:VCALENDAR
VERSION:2.0
PRODID:-//Norsk Tannpleierforenings medlemsside - ECPv6.15.20//NONSGML v1.0//EN
CALSCALE:GREGORIAN
METHOD:PUBLISH
X-ORIGINAL-URL:https://tannpleierforeningen.no
X-WR-CALDESC:Arrangement for Norsk Tannpleierforenings medlemsside
REFRESH-INTERVAL;VALUE=DURATION:PT1H
X-Robots-Tag:noindex
X-PUBLISHED-TTL:PT1H
BEGIN:VTIMEZONE
TZID:Europe/Oslo
BEGIN:DAYLIGHT
TZOFFSETFROM:+0100
TZOFFSETTO:+0200
TZNAME:CEST
DTSTART:20230326T010000
END:DAYLIGHT
BEGIN:STANDARD
TZOFFSETFROM:+0200
TZOFFSETTO:+0100
TZNAME:CET
DTSTART:20231029T010000
END:STANDARD
BEGIN:DAYLIGHT
TZOFFSETFROM:+0100
TZOFFSETTO:+0200
TZNAME:CEST
DTSTART:20240331T010000
END:DAYLIGHT
BEGIN:STANDARD
TZOFFSETFROM:+0200
TZOFFSETTO:+0100
TZNAME:CET
DTSTART:20241027T010000
END:STANDARD
BEGIN:DAYLIGHT
TZOFFSETFROM:+0100
TZOFFSETTO:+0200
TZNAME:CEST
DTSTART:20250330T010000
END:DAYLIGHT
BEGIN:STANDARD
TZOFFSETFROM:+0200
TZOFFSETTO:+0100
TZNAME:CET
DTSTART:20251026T010000
END:STANDARD
END:VTIMEZONE
BEGIN:VEVENT
DTSTART;TZID=Europe/Oslo:20240821T163000
DTEND;TZID=Europe/Oslo:20240821T203000
DTSTAMP:20260421T160542
CREATED:20240717T103925Z
LAST-MODIFIED:20240717T103956Z
UID:10000368-1724257800-1724272200@tannpleierforeningen.no
SUMMARY:Kurs i Airpolish og ultralydteknologi
DESCRIPTION:Bli bedre på moderne tannbehandling med maskinell depurasjon og airpolishing på kveldskurs hos Dental Sør med Linda Kjølstadmyr. Alle deltagere mottar kursbevis etter utført kurs. \nSe mer på nettsiden: \n\nKurs i Airpolish og ultralydteknologi
URL:https://tannpleierforeningen.no/aktivitetskalender/kurs-i-airpolish-og-ultralydsteknologi/
LOCATION:Oslo\, Norway
CATEGORIES:Kurs
END:VEVENT
END:VCALENDAR