BEGIN:VCALENDAR
VERSION:2.0
PRODID:-//Norsk Tannpleierforenings medlemsside - ECPv6.15.20//NONSGML v1.0//EN
CALSCALE:GREGORIAN
METHOD:PUBLISH
X-ORIGINAL-URL:https://tannpleierforeningen.no
X-WR-CALDESC:Arrangement for Norsk Tannpleierforenings medlemsside
REFRESH-INTERVAL;VALUE=DURATION:PT1H
X-Robots-Tag:noindex
X-PUBLISHED-TTL:PT1H
BEGIN:VTIMEZONE
TZID:Europe/Oslo
BEGIN:DAYLIGHT
TZOFFSETFROM:+0100
TZOFFSETTO:+0200
TZNAME:CEST
DTSTART:20210328T010000
END:DAYLIGHT
BEGIN:STANDARD
TZOFFSETFROM:+0200
TZOFFSETTO:+0100
TZNAME:CET
DTSTART:20211031T010000
END:STANDARD
BEGIN:DAYLIGHT
TZOFFSETFROM:+0100
TZOFFSETTO:+0200
TZNAME:CEST
DTSTART:20220327T010000
END:DAYLIGHT
BEGIN:STANDARD
TZOFFSETFROM:+0200
TZOFFSETTO:+0100
TZNAME:CET
DTSTART:20221030T010000
END:STANDARD
BEGIN:DAYLIGHT
TZOFFSETFROM:+0100
TZOFFSETTO:+0200
TZNAME:CEST
DTSTART:20230326T010000
END:DAYLIGHT
BEGIN:STANDARD
TZOFFSETFROM:+0200
TZOFFSETTO:+0100
TZNAME:CET
DTSTART:20231029T010000
END:STANDARD
END:VTIMEZONE
BEGIN:VEVENT
DTSTART;VALUE=DATE:20220815
DTEND;VALUE=DATE:20220820
DTSTAMP:20260423T161943
CREATED:20220808T095407Z
LAST-MODIFIED:20220808T100042Z
UID:10000432-1660521600-1660953599@tannpleierforeningen.no
SUMMARY:Arendalsuka 2022
DESCRIPTION:Arendalsuka er en demokratisk møteplass for alle som er engasjert i samfunnet vi lever i. Dette er arrangementet for deg som vil være med å lytte til\, debattere og løse dagens og morgendagens samfunnsutfordringer. \nRundt 1000 arrangementer og 200 stands fyller Arendal sentrum i fem dager i august hvert år i uke 33. \nTannpleierforeningen prøver så langt det lar seg gjøre å delta for å drive markedsføring av tannpleieryrket og politisk påvirkning. \nUnio har egen stand på Strand Café sentralt i havnebassenget Pollen og mange arrangement under Arendalsuka. Adressen er Nedre Tyholmsvei 2. Det kan du lese mer om på deres nettsider her. \n 
URL:https://tannpleierforeningen.no/aktivitetskalender/arendalsuka-2022/
LOCATION:Arendal
CATEGORIES:Møte,Politisk påvirkning
END:VEVENT
END:VCALENDAR