BEGIN:VCALENDAR
VERSION:2.0
PRODID:-//Norsk Tannpleierforenings medlemsside - ECPv6.15.20//NONSGML v1.0//EN
CALSCALE:GREGORIAN
METHOD:PUBLISH
X-ORIGINAL-URL:https://tannpleierforeningen.no
X-WR-CALDESC:Arrangement for Norsk Tannpleierforenings medlemsside
REFRESH-INTERVAL;VALUE=DURATION:PT1H
X-Robots-Tag:noindex
X-PUBLISHED-TTL:PT1H
BEGIN:VTIMEZONE
TZID:Europe/Oslo
BEGIN:DAYLIGHT
TZOFFSETFROM:+0100
TZOFFSETTO:+0200
TZNAME:CEST
DTSTART:20250330T010000
END:DAYLIGHT
BEGIN:STANDARD
TZOFFSETFROM:+0200
TZOFFSETTO:+0100
TZNAME:CET
DTSTART:20251026T010000
END:STANDARD
BEGIN:DAYLIGHT
TZOFFSETFROM:+0100
TZOFFSETTO:+0200
TZNAME:CEST
DTSTART:20260329T010000
END:DAYLIGHT
BEGIN:STANDARD
TZOFFSETFROM:+0200
TZOFFSETTO:+0100
TZNAME:CET
DTSTART:20261025T010000
END:STANDARD
BEGIN:DAYLIGHT
TZOFFSETFROM:+0100
TZOFFSETTO:+0200
TZNAME:CEST
DTSTART:20270328T010000
END:DAYLIGHT
BEGIN:STANDARD
TZOFFSETFROM:+0200
TZOFFSETTO:+0100
TZNAME:CET
DTSTART:20271031T010000
END:STANDARD
END:VTIMEZONE
BEGIN:VEVENT
DTSTART;TZID=Europe/Oslo:20260108T160000
DTEND;TZID=Europe/Oslo:20260108T203000
DTSTAMP:20260421T160227
CREATED:20251105T093902Z
LAST-MODIFIED:20251105T093902Z
UID:10000540-1767888000-1767904200@tannpleierforeningen.no
SUMMARY:Kurs: Moderne minimalinvasiv perio-og profylakse
DESCRIPTION:Moderne teknologier og behandlingsformer\, forebygging og behandling av periodontitt\, mucositt og peri-implantitt \nLIC Scadenta\, Sandvika \nMer info kommer
URL:https://tannpleierforeningen.no/aktivitetskalender/moderne-minimal-invasiv-perio-kurs/
LOCATION:Sandvika
CATEGORIES:Kurs
ATTACH;FMTTYPE=image/webp:https://tannpleierforeningen.no/wp-content/uploads/linda-k-behandl.webp
END:VEVENT
END:VCALENDAR