BEGIN:VCALENDAR
VERSION:2.0
PRODID:-//Norsk Tannpleierforenings medlemsside - ECPv6.15.20//NONSGML v1.0//EN
CALSCALE:GREGORIAN
METHOD:PUBLISH
X-ORIGINAL-URL:https://tannpleierforeningen.no
X-WR-CALDESC:Arrangement for Norsk Tannpleierforenings medlemsside
REFRESH-INTERVAL;VALUE=DURATION:PT1H
X-Robots-Tag:noindex
X-PUBLISHED-TTL:PT1H
BEGIN:VTIMEZONE
TZID:Europe/Oslo
BEGIN:DAYLIGHT
TZOFFSETFROM:+0100
TZOFFSETTO:+0200
TZNAME:CEST
DTSTART:20230326T010000
END:DAYLIGHT
BEGIN:STANDARD
TZOFFSETFROM:+0200
TZOFFSETTO:+0100
TZNAME:CET
DTSTART:20231029T010000
END:STANDARD
BEGIN:DAYLIGHT
TZOFFSETFROM:+0100
TZOFFSETTO:+0200
TZNAME:CEST
DTSTART:20240331T010000
END:DAYLIGHT
BEGIN:STANDARD
TZOFFSETFROM:+0200
TZOFFSETTO:+0100
TZNAME:CET
DTSTART:20241027T010000
END:STANDARD
BEGIN:DAYLIGHT
TZOFFSETFROM:+0100
TZOFFSETTO:+0200
TZNAME:CEST
DTSTART:20250330T010000
END:DAYLIGHT
BEGIN:STANDARD
TZOFFSETFROM:+0200
TZOFFSETTO:+0100
TZNAME:CET
DTSTART:20251026T010000
END:STANDARD
END:VTIMEZONE
BEGIN:VEVENT
DTSTART;TZID=Europe/Oslo:20241021T090000
DTEND;TZID=Europe/Oslo:20241022T160000
DTSTAMP:20260422T024458
CREATED:20240828T080013Z
LAST-MODIFIED:20241008T110727Z
UID:10000370-1729501200-1729612800@tannpleierforeningen.no
SUMMARY:Den orale undersøkelsen -kurs
DESCRIPTION:NTpF og UiO gjentar kurset fra fjor høst i samarbeid med institutt for oral biologi\, UiO.  \nVi utfører gjerne en oral undersøkelse\, men forstår vi den? Hvordan forbereder man seg best for god oral helse i alderdom? Hva er reelle/kliniske problemstillinger/endringer man kan forvente å se hos den godt voksne pasienten? \nDette medlemskurset er i regi av NTpF i samarbeid med Institutt for oral biologi\, Universitetet i Oslo. \nKurset er kun for medlemmer. \nkursprogram IOB 2024 \nTo dagers kurs inkl. lunsj 4000\,- \nVi har fått spørsmål om kurset kan streames\, men det er ikke aktuelt i år\, men ved evt. gjentagelse kan det være aktuelt. \n			\n									Meld deg på
URL:https://tannpleierforeningen.no/aktivitetskalender/kurs-den-orale-undersokelsen2024/
LOCATION:Institutt for Oral Biologi\, Sognsvannsveien 10\, Oslo\, Norge
CATEGORIES:Kurs
ATTACH;FMTTYPE=image/jpeg:https://tannpleierforeningen.no/wp-content/uploads/institutt-for-oral-biologi-UiO.jpg
ORGANIZER;CN="Norsk Tannpleierforening":MAILTO:post@tannpleier.no
END:VEVENT
END:VCALENDAR