BEGIN:VCALENDAR
VERSION:2.0
PRODID:-//Norsk Tannpleierforenings medlemsside - ECPv6.15.20//NONSGML v1.0//EN
CALSCALE:GREGORIAN
METHOD:PUBLISH
X-WR-CALNAME:Norsk Tannpleierforenings medlemsside
X-ORIGINAL-URL:https://tannpleierforeningen.no
X-WR-CALDESC:Arrangement for Norsk Tannpleierforenings medlemsside
REFRESH-INTERVAL;VALUE=DURATION:PT1H
X-Robots-Tag:noindex
X-PUBLISHED-TTL:PT1H
BEGIN:VTIMEZONE
TZID:Europe/Oslo
BEGIN:DAYLIGHT
TZOFFSETFROM:+0100
TZOFFSETTO:+0200
TZNAME:CEST
DTSTART:20220327T010000
END:DAYLIGHT
BEGIN:STANDARD
TZOFFSETFROM:+0200
TZOFFSETTO:+0100
TZNAME:CET
DTSTART:20221030T010000
END:STANDARD
BEGIN:DAYLIGHT
TZOFFSETFROM:+0100
TZOFFSETTO:+0200
TZNAME:CEST
DTSTART:20230326T010000
END:DAYLIGHT
BEGIN:STANDARD
TZOFFSETFROM:+0200
TZOFFSETTO:+0100
TZNAME:CET
DTSTART:20231029T010000
END:STANDARD
BEGIN:DAYLIGHT
TZOFFSETFROM:+0100
TZOFFSETTO:+0200
TZNAME:CEST
DTSTART:20240331T010000
END:DAYLIGHT
BEGIN:STANDARD
TZOFFSETFROM:+0200
TZOFFSETTO:+0100
TZNAME:CET
DTSTART:20241027T010000
END:STANDARD
END:VTIMEZONE
BEGIN:VEVENT
DTSTART;TZID=Europe/Oslo:20231023T090000
DTEND;TZID=Europe/Oslo:20231024T160000
DTSTAMP:20260423T001729
CREATED:20230623T063708Z
LAST-MODIFIED:20230919T071129Z
UID:10000462-1698051600-1698163200@tannpleierforeningen.no
SUMMARY:Kurs: Den orale undersøkelsen
DESCRIPTION:13.09.23 Kurset er fulltegnet og du kan sette deg på venteliste ved å sende e-post til fagansvarlig: gry.jakhelln@tannpleier.no. Vi er i dialog for å mulig gjenta kurset snart. \npåmeldte deltagere får tilsendt oppdatert program og veibeskrivelse en uke før kurset. \nVi utfører gjerne en oral undersøkelse\, men forstår vi den? Hvordan forbereder man seg best for god oral helse i alderdom? Hva er reelle/kliniske problemstillinger/endringer man kan forvente å se hos den godt voksne pasienten? \nDette medlemskurset er i regi av NTpF i samarbeid med Institutt for oral biologi\, Universitetet i Oslo.
URL:https://tannpleierforeningen.no/aktivitetskalender/kurs-den-orale-undersokelsen/
LOCATION:Institutt for Oral Biologi\, Sognsvannsveien 10\, Oslo\, Norge
CATEGORIES:Kurs
ATTACH;FMTTYPE=image/jpeg:https://tannpleierforeningen.no/wp-content/uploads/institutt-for-oral-biologi-UiO.jpg
ORGANIZER;CN="Norsk Tannpleierforening":MAILTO:post@tannpleier.no
END:VEVENT
END:VCALENDAR