BEGIN:VCALENDAR
VERSION:2.0
PRODID:-//Norsk Tannpleierforenings medlemsside - ECPv6.15.20//NONSGML v1.0//EN
CALSCALE:GREGORIAN
METHOD:PUBLISH
X-WR-CALNAME:Norsk Tannpleierforenings medlemsside
X-ORIGINAL-URL:https://tannpleierforeningen.no
X-WR-CALDESC:Arrangement for Norsk Tannpleierforenings medlemsside
REFRESH-INTERVAL;VALUE=DURATION:PT1H
X-Robots-Tag:noindex
X-PUBLISHED-TTL:PT1H
BEGIN:VTIMEZONE
TZID:Europe/Oslo
BEGIN:DAYLIGHT
TZOFFSETFROM:+0100
TZOFFSETTO:+0200
TZNAME:CEST
DTSTART:20220327T010000
END:DAYLIGHT
BEGIN:STANDARD
TZOFFSETFROM:+0200
TZOFFSETTO:+0100
TZNAME:CET
DTSTART:20221030T010000
END:STANDARD
BEGIN:DAYLIGHT
TZOFFSETFROM:+0100
TZOFFSETTO:+0200
TZNAME:CEST
DTSTART:20230326T010000
END:DAYLIGHT
BEGIN:STANDARD
TZOFFSETFROM:+0200
TZOFFSETTO:+0100
TZNAME:CET
DTSTART:20231029T010000
END:STANDARD
BEGIN:DAYLIGHT
TZOFFSETFROM:+0100
TZOFFSETTO:+0200
TZNAME:CEST
DTSTART:20240331T010000
END:DAYLIGHT
BEGIN:STANDARD
TZOFFSETFROM:+0200
TZOFFSETTO:+0100
TZNAME:CET
DTSTART:20241027T010000
END:STANDARD
END:VTIMEZONE
BEGIN:VEVENT
DTSTART;TZID=Europe/Oslo:20230918T100000
DTEND;TZID=Europe/Oslo:20230918T150000
DTSTAMP:20260423T021148
CREATED:20230705T113740Z
LAST-MODIFIED:20230705T114711Z
UID:10000464-1695031200-1695049200@tannpleierforeningen.no
SUMMARY:Munn- og halskreftdagen 2023
DESCRIPTION:Vi har gleden av å invitere til Munn- og halskreftdagen 2023 – den åttende i rekken. \nTid: 18. september\, kl. 10.00-15.00 \nSted: Gimle kino i Oslo eller digitalt \nMøteleder: Aslak Bonde \nArrangementet er gratis. \nDet blir et tre-delt program: \nFremtidens behandlingHPV og hode- og halskreft – hvor står vi nå?Oppfølgning og livskvalitet hos kreftpasienter  \nFor mer detaljer om programmet se www.munnoghalskreftdagen.no eller meld deg på via  knappen under \nProgrammet avsluttes med litt minglemat. \nDet er plass til 250 mennesker på Gimle kino. Sikre din plass i dag \n			\n						Til påmeldingen
URL:https://tannpleierforeningen.no/aktivitetskalender/munn-og-halskreftdagen-2023/
CATEGORIES:Kurs,Markeringsdag
ATTACH;FMTTYPE=image/png:https://tannpleierforeningen.no/wp-content/uploads/munnoghals.png
END:VEVENT
END:VCALENDAR