BEGIN:VCALENDAR
VERSION:2.0
PRODID:-//Norsk Tannpleierforenings medlemsside - ECPv6.15.20//NONSGML v1.0//EN
CALSCALE:GREGORIAN
METHOD:PUBLISH
X-WR-CALNAME:Norsk Tannpleierforenings medlemsside
X-ORIGINAL-URL:https://tannpleierforeningen.no
X-WR-CALDESC:Arrangement for Norsk Tannpleierforenings medlemsside
REFRESH-INTERVAL;VALUE=DURATION:PT1H
X-Robots-Tag:noindex
X-PUBLISHED-TTL:PT1H
BEGIN:VTIMEZONE
TZID:Europe/Oslo
BEGIN:DAYLIGHT
TZOFFSETFROM:+0100
TZOFFSETTO:+0200
TZNAME:CEST
DTSTART:20220327T010000
END:DAYLIGHT
BEGIN:STANDARD
TZOFFSETFROM:+0200
TZOFFSETTO:+0100
TZNAME:CET
DTSTART:20221030T010000
END:STANDARD
BEGIN:DAYLIGHT
TZOFFSETFROM:+0100
TZOFFSETTO:+0200
TZNAME:CEST
DTSTART:20230326T010000
END:DAYLIGHT
BEGIN:STANDARD
TZOFFSETFROM:+0200
TZOFFSETTO:+0100
TZNAME:CET
DTSTART:20231029T010000
END:STANDARD
BEGIN:DAYLIGHT
TZOFFSETFROM:+0100
TZOFFSETTO:+0200
TZNAME:CEST
DTSTART:20240331T010000
END:DAYLIGHT
BEGIN:STANDARD
TZOFFSETFROM:+0200
TZOFFSETTO:+0100
TZNAME:CET
DTSTART:20241027T010000
END:STANDARD
END:VTIMEZONE
BEGIN:VEVENT
DTSTART;VALUE=DATE:20230320
DTEND;VALUE=DATE:20230321
DTSTAMP:20260423T123022
CREATED:20220311T153450Z
LAST-MODIFIED:20230310T103217Z
UID:10000388-1679270400-1679356799@tannpleierforeningen.no
SUMMARY:Munnhelsedagen
DESCRIPTION:20. mars markerer Tannlegeforeningen verdens munnhelsedag ved å invitere til et tverrhelsefaglig webinar om viktigheten av god oppfølging av munnhelsen og tannhelsetilbudet for eldre\, langtidssyke og uføre i hjemmesykepleie. Tannpleierforeningen er representert på dette webinaret. \nRedusert munnhelse kan føre til alvorlige infeksjoner\, store smerter og dårlig ernæring. Likevel får svært mange av de hjemmeboende\, pleietrengende eldre ikke den behandlingen og oppfølgingen de har krav på. Hvordan kan vi sammen sikre god oppfølging av denne pasientgruppen? \nTid: 20. mars kl. 11:00 – 12:00 \nSted: Zoom \nWebinaret vil ta for seg utfordringer de forskjellige helsearbeiderne møter i ivaretakelsen av pasientenes munnhelse\, ulike samhandlingsarenaer og udekt kompetansebehov.\nArrangementet er gratis. Hvis man ikke har mulighet til å delta live vil påmeldte deltakere få tilsendt lenke til opptak i etterkant. \nSe tannlegeforeningen.no for mer informasjon og lenke til påmelding \nHvorfor er munnhelsen viktig for denne pasientgruppen? \n\nGod munnhelse er grunnleggende for god ernæring. Smerter og tyggeproblemer kan bidra til feil- og/eller underernæring\nMultimedisinering fører svært ofte til munntørrhet\, som øker risikoen for karies og såre slimhinner\, og kan forårsake problemer med å spise\, svelge og snakke.\nInfeksjoner og tilstander i munnen kan påvirke sykdomsutvikling og sette annen behandling og operasjoner på vent.\nDårlig munnhelse kan få store konsekvenser for selvfølelsen og sosiale deltakelse\, gi store psykiske belastninger\, samt bidra til stigmatisering og redusert livskvalitet.\n\nFor mer informasjon\, se også www.tannlegeforeningen.no/munnhelsedagen \nTannlegeforeningen.no
URL:https://tannpleierforeningen.no/aktivitetskalender/munnhelsedagen-2023-03-20/
CATEGORIES:Kurs,Markeringsdag
ATTACH;FMTTYPE=image/png:https://tannpleierforeningen.no/wp-content/uploads/WOHD_logo_English.png
END:VEVENT
END:VCALENDAR