BEGIN:VCALENDAR
VERSION:2.0
PRODID:-//Norsk Tannpleierforenings medlemsside - ECPv6.15.20//NONSGML v1.0//EN
CALSCALE:GREGORIAN
METHOD:PUBLISH
X-ORIGINAL-URL:https://tannpleierforeningen.no
X-WR-CALDESC:Arrangement for Norsk Tannpleierforenings medlemsside
REFRESH-INTERVAL;VALUE=DURATION:PT1H
X-Robots-Tag:noindex
X-PUBLISHED-TTL:PT1H
BEGIN:VTIMEZONE
TZID:Europe/Oslo
BEGIN:DAYLIGHT
TZOFFSETFROM:+0100
TZOFFSETTO:+0200
TZNAME:CEST
DTSTART:20240331T010000
END:DAYLIGHT
BEGIN:STANDARD
TZOFFSETFROM:+0200
TZOFFSETTO:+0100
TZNAME:CET
DTSTART:20241027T010000
END:STANDARD
BEGIN:DAYLIGHT
TZOFFSETFROM:+0100
TZOFFSETTO:+0200
TZNAME:CEST
DTSTART:20250330T010000
END:DAYLIGHT
BEGIN:STANDARD
TZOFFSETFROM:+0200
TZOFFSETTO:+0100
TZNAME:CET
DTSTART:20251026T010000
END:STANDARD
BEGIN:DAYLIGHT
TZOFFSETFROM:+0100
TZOFFSETTO:+0200
TZNAME:CEST
DTSTART:20260329T010000
END:DAYLIGHT
BEGIN:STANDARD
TZOFFSETFROM:+0200
TZOFFSETTO:+0100
TZNAME:CET
DTSTART:20261025T010000
END:STANDARD
END:VTIMEZONE
BEGIN:VEVENT
DTSTART;VALUE=DATE:20250320
DTEND;VALUE=DATE:20250321
DTSTAMP:20260421T175156
CREATED:20220311T153450Z
LAST-MODIFIED:20220311T154240Z
UID:10000390-1742428800-1742515199@tannpleierforeningen.no
SUMMARY:Munnhelsedagen
DESCRIPTION:World Oral Health Day								\n					\n				\n		\n					\n				\n												\n																					20.mars Verdens munnhelsedag ud83dude01 Visste du at god munnhelse kan pu00e5virke hele kroppen? Nyere forskning viser tydelige helsegevinster ud83dudc44ud83euddb7 Ta vare pu00e5 smilet u2013 det er en del av helsen din ud83eudea5u2728. #norsktannpleierforening #oralhelse #munnhelse #tannpleier #munnhygiene #forebyggende #tannkju00f8ttsykdomkanforebygges #pusstennene #ntpf #WorldOralHealthDay #munnhelsedag
URL:https://tannpleierforeningen.no/aktivitetskalender/munnhelsedagen/2025-03-20/
CATEGORIES:Markeringsdag
ATTACH;FMTTYPE=image/png:https://tannpleierforeningen.no/wp-content/uploads/WOHD_logo_English.png
END:VEVENT
END:VCALENDAR