BEGIN:VCALENDAR
VERSION:2.0
PRODID:-//Norsk Tannpleierforenings medlemsside - ECPv6.15.20//NONSGML v1.0//EN
CALSCALE:GREGORIAN
METHOD:PUBLISH
X-ORIGINAL-URL:https://tannpleierforeningen.no
X-WR-CALDESC:Arrangement for Norsk Tannpleierforenings medlemsside
REFRESH-INTERVAL;VALUE=DURATION:PT1H
X-Robots-Tag:noindex
X-PUBLISHED-TTL:PT1H
BEGIN:VTIMEZONE
TZID:Europe/Oslo
BEGIN:DAYLIGHT
TZOFFSETFROM:+0100
TZOFFSETTO:+0200
TZNAME:CEST
DTSTART:20220327T010000
END:DAYLIGHT
BEGIN:STANDARD
TZOFFSETFROM:+0200
TZOFFSETTO:+0100
TZNAME:CET
DTSTART:20221030T010000
END:STANDARD
BEGIN:DAYLIGHT
TZOFFSETFROM:+0100
TZOFFSETTO:+0200
TZNAME:CEST
DTSTART:20230326T010000
END:DAYLIGHT
BEGIN:STANDARD
TZOFFSETFROM:+0200
TZOFFSETTO:+0100
TZNAME:CET
DTSTART:20231029T010000
END:STANDARD
BEGIN:DAYLIGHT
TZOFFSETFROM:+0100
TZOFFSETTO:+0200
TZNAME:CEST
DTSTART:20240331T010000
END:DAYLIGHT
BEGIN:STANDARD
TZOFFSETFROM:+0200
TZOFFSETTO:+0100
TZNAME:CET
DTSTART:20241027T010000
END:STANDARD
END:VTIMEZONE
BEGIN:VEVENT
DTSTART;VALUE=DATE:20231114
DTEND;VALUE=DATE:20231115
DTSTAMP:20260423T084055
CREATED:20220311T154733Z
LAST-MODIFIED:20231114T103117Z
UID:10000396-1699920000-1700006399@tannpleierforeningen.no
SUMMARY:Diabetesdagen
DESCRIPTION:Diabetesbehandling bør inkludere behandling av orale sykdommer. \nEt ustabilt blodsukker\, som er vanskelig å kontrollere\, kan være et symptom på sykdom i munnen. \nGod munnhygiene og tannbehandling er viktig for å opprettholde et stabilt blodsukker og forebygge diabeteskomplikasjoner. \nGod diabetesbehandling kan forebygge og lette behandlingen av orale sykdommer. Oppfølging hos tannhelsepersonell bør derfor være en selvfølge i diabetesomsorgen.
URL:https://tannpleierforeningen.no/aktivitetskalender/diabetesdagen/2023-11-14/
CATEGORIES:Markeringsdag
ATTACH;FMTTYPE=image/png:https://tannpleierforeningen.no/wp-content/uploads/WDD-logo-date-Norwegian-e1647013770363.png
END:VEVENT
END:VCALENDAR