BEGIN:VCALENDAR
VERSION:2.0
PRODID:-//Norsk Tannpleierforenings medlemsside - ECPv6.15.20//NONSGML v1.0//EN
CALSCALE:GREGORIAN
METHOD:PUBLISH
X-WR-CALNAME:Norsk Tannpleierforenings medlemsside
X-ORIGINAL-URL:https://tannpleierforeningen.no
X-WR-CALDESC:Arrangement for Norsk Tannpleierforenings medlemsside
REFRESH-INTERVAL;VALUE=DURATION:PT1H
X-Robots-Tag:noindex
X-PUBLISHED-TTL:PT1H
BEGIN:VTIMEZONE
TZID:Europe/Oslo
BEGIN:DAYLIGHT
TZOFFSETFROM:+0100
TZOFFSETTO:+0200
TZNAME:CEST
DTSTART:20240331T010000
END:DAYLIGHT
BEGIN:STANDARD
TZOFFSETFROM:+0200
TZOFFSETTO:+0100
TZNAME:CET
DTSTART:20241027T010000
END:STANDARD
BEGIN:DAYLIGHT
TZOFFSETFROM:+0100
TZOFFSETTO:+0200
TZNAME:CEST
DTSTART:20250330T010000
END:DAYLIGHT
BEGIN:STANDARD
TZOFFSETFROM:+0200
TZOFFSETTO:+0100
TZNAME:CET
DTSTART:20251026T010000
END:STANDARD
BEGIN:DAYLIGHT
TZOFFSETFROM:+0100
TZOFFSETTO:+0200
TZNAME:CEST
DTSTART:20260329T010000
END:DAYLIGHT
BEGIN:STANDARD
TZOFFSETFROM:+0200
TZOFFSETTO:+0100
TZNAME:CET
DTSTART:20261025T010000
END:STANDARD
END:VTIMEZONE
BEGIN:VEVENT
DTSTART;VALUE=DATE:20250505
DTEND;VALUE=DATE:20250506
DTSTAMP:20260422T044208
CREATED:20250307T095128Z
LAST-MODIFIED:20250307T095342Z
UID:10000385-1746403200-1746489599@tannpleierforeningen.no
SUMMARY:Håndhygienedagen
DESCRIPTION:Håndhygiene er et viktig bidrag i kampen mot antibiotikaresistens\n Bli med og marker Håndhygienedagen 5. mai 2025!\nAntibiotikaresistens utgjør en økende trussel mot folkehelsen\, både globalt og nasjonalt. Håndhygiene forebygger infeksjoner\, som reduserer behovet for antibiotika\, og hindrer spredning av resistente bakterier.\nhttps://www.fhi.no/sm/handhygiene/markering-av-handhygienedagen-5.-mai-2025
URL:https://tannpleierforeningen.no/aktivitetskalender/handhygienedagen-2/
CATEGORIES:Markeringsdag
ATTACH;FMTTYPE=image/jpeg:https://tannpleierforeningen.no/wp-content/uploads/handhygienedagen-2025.jpg
END:VEVENT
BEGIN:VEVENT
DTSTART;VALUE=DATE:20250507
DTEND;VALUE=DATE:20250509
DTSTAMP:20260422T044208
CREATED:20241104T133724Z
LAST-MODIFIED:20241106T083936Z
UID:10000492-1746576000-1746748799@tannpleierforeningen.no
SUMMARY:Hovedtillitsvalgtsamling mai 2025
DESCRIPTION:Mer informasjon blir sendt til hovedtillitsvalgte direkte.
URL:https://tannpleierforeningen.no/aktivitetskalender/hovedtillitsvalgtsamling-mai-25/
LOCATION:Oslo\, Norway
CATEGORIES:Kurs,Tillitsvalgtopplæring
ATTACH;FMTTYPE=image/jpeg:https://tannpleierforeningen.no/wp-content/uploads/om-tannpleierforeningen-norge.jpg
ORGANIZER;CN="Norsk Tannpleierforening":MAILTO:post@tannpleier.no
END:VEVENT
BEGIN:VEVENT
DTSTART;VALUE=DATE:20250514
DTEND;VALUE=DATE:20250518
DTSTAMP:20260422T044208
CREATED:20220711T114343Z
LAST-MODIFIED:20240523T061149Z
UID:10000429-1747180800-1747526399@tannpleierforeningen.no
SUMMARY:EuroPerio11 Vien 2025
DESCRIPTION:Mer informasjon kommer senere. \nDu kan også følge med på EFP sine sider om kommende arrangementer her
URL:https://tannpleierforeningen.no/aktivitetskalender/europerio11-vien-2025/
CATEGORIES:Kurs
ATTACH;FMTTYPE=image/jpeg:https://tannpleierforeningen.no/wp-content/uploads/Europerio-2025.jpg
END:VEVENT
BEGIN:VEVENT
DTSTART;TZID=Europe/Oslo:20250514T180000
DTEND;TZID=Europe/Oslo:20250514T210000
DTSTAMP:20260422T044208
CREATED:20250408T112138Z
LAST-MODIFIED:20250408T121126Z
UID:10000516-1747245600-1747256400@tannpleierforeningen.no
SUMMARY:Webinar: Regnskap og skatt for selvstendig næringsdrivende
DESCRIPTION:Grunnleggende kurs i regnskap og skatt for å skape forståelse av hvordan ting henger sammen\, hvordan man bør tenke og slik sett forberede tallene til skattemeldingen. Det vil også bli gjennomgått hva en kan trekke fra på skattemeldingen som selvstendig næringsdrivende. Vi regner også med at det blir tid til spørsmål. \nWebinaret streames direkte i Teams og koster 500\,- \nTid: Onsdag 14. mai kl. 18.00-21.00Foredragsholder: \nFred Gerhart Strand fra Regnskapsbyrået Gerhart og sønn \nMeld deg på her
URL:https://tannpleierforeningen.no/aktivitetskalender/webinar-regnskap-og-skatt-for-selvstendig-naeringsdrivende/
LOCATION:Digitalt
CATEGORIES:Kurs
ATTACH;FMTTYPE=image/jpeg:https://tannpleierforeningen.no/wp-content/uploads/Webinar-i-regnskap-og-skatt.jpg
ORGANIZER;CN="Norsk Tannpleierforening":MAILTO:post@tannpleier.no
END:VEVENT
BEGIN:VEVENT
DTSTART;TZID=Europe/Oslo:20250521T200000
DTEND;TZID=Europe/Oslo:20250521T220000
DTSTAMP:20260422T044208
CREATED:20250307T093201Z
LAST-MODIFIED:20250307T093335Z
UID:10000512-1747857600-1747864800@tannpleierforeningen.no
SUMMARY:Webinar-serie i regi av EDHF 21. mai
DESCRIPTION:Webinar series: Risk\, Prevention & Lifelong Oral Health \nSpeaker: Donna Brogan\, USA \nModerator: Dr Gitana Rederiene \nTid: 20:00 \nRegistrer deg her  \n12 March 2025 Webinar 1: Putting risk assessment to work in your practice: Easy steps to classify and personalize prevention About: Learn how to effectively implement Caries Management By Risk Assessment (CAMBRA) in your practice. This session will guide you through simple\, evidence-based steps to assess caries risk\, classify patients into low\, moderate\, or high risk\, and create personalized prevention plans. Discover how proper risk assessment can enhance treatment outcomes\, prevent decay\, and improve patient care. \n 30 April 2025 Webinar 2: Prevention for Life®: Keeping your patients caries free at all ages About: Explore how oral health risks vary across different life stages—from infants and pregnant mothers to adults and seniors. This webinar focuses on evidence-based methods to assess risk factors by age and develop tailored prevention strategies. Learn effective intervention techniques\, including fluoride varnish and home care products\, to help your patients maintain a caries-free life at every stage. \n21 May 2025 Webinar 3: Healthy patients\, healthy practice: Overcoming barriers to fluoride treatment About: Learn how to boost adult patient acceptance of preventive treatments by addressing common barriers such as time\, cost\, and insurance limitations. This session will guide you in implementing simple\, efficient risk assessment methods\, establishing evidence-based office protocols\, and fostering a practice philosophy focused on long-term oral health. Gain practical strategies to ensure healthier patients\, happier staff\, and a more successful practice.
URL:https://tannpleierforeningen.no/aktivitetskalender/webinar-serie-i-regi-av-edhf-21-mai/
LOCATION:Digitalt
CATEGORIES:Kurs
ATTACH;FMTTYPE=image/jpeg:https://tannpleierforeningen.no/wp-content/uploads/Donna-Brogan_SM_Centrix__21.05.2025.jpg
ORGANIZER;CN="EDHF":MAILTO:secretary@edhf.eu
END:VEVENT
END:VCALENDAR