BEGIN:VCALENDAR
VERSION:2.0
PRODID:-//Norsk Tannpleierforenings medlemsside - ECPv6.15.20//NONSGML v1.0//EN
CALSCALE:GREGORIAN
METHOD:PUBLISH
X-ORIGINAL-URL:https://tannpleierforeningen.no
X-WR-CALDESC:Arrangement for Norsk Tannpleierforenings medlemsside
REFRESH-INTERVAL;VALUE=DURATION:PT1H
X-Robots-Tag:noindex
X-PUBLISHED-TTL:PT1H
BEGIN:VTIMEZONE
TZID:Europe/Oslo
BEGIN:DAYLIGHT
TZOFFSETFROM:+0100
TZOFFSETTO:+0200
TZNAME:CEST
DTSTART:20240331T010000
END:DAYLIGHT
BEGIN:STANDARD
TZOFFSETFROM:+0200
TZOFFSETTO:+0100
TZNAME:CET
DTSTART:20241027T010000
END:STANDARD
BEGIN:DAYLIGHT
TZOFFSETFROM:+0100
TZOFFSETTO:+0200
TZNAME:CEST
DTSTART:20250330T010000
END:DAYLIGHT
BEGIN:STANDARD
TZOFFSETFROM:+0200
TZOFFSETTO:+0100
TZNAME:CET
DTSTART:20251026T010000
END:STANDARD
BEGIN:DAYLIGHT
TZOFFSETFROM:+0100
TZOFFSETTO:+0200
TZNAME:CEST
DTSTART:20260329T010000
END:DAYLIGHT
BEGIN:STANDARD
TZOFFSETFROM:+0200
TZOFFSETTO:+0100
TZNAME:CET
DTSTART:20261025T010000
END:STANDARD
END:VTIMEZONE
BEGIN:VEVENT
DTSTART;TZID=Europe/Oslo:20250312T200000
DTEND;TZID=Europe/Oslo:20250312T220000
DTSTAMP:20260422T080821
CREATED:20250307T092450Z
LAST-MODIFIED:20250307T092853Z
UID:10000510-1741809600-1741816800@tannpleierforeningen.no
SUMMARY:Webinar-serie i regi av EDHF 12. mars
DESCRIPTION:Webinar series: Risk\, Prevention & Lifelong Oral Health \nSpeaker: Donna Brogan\, USA \nModerator: Dr Gitana Rederiene \nTid: 20:00 \nRegistrer deg her  \n12 March 2025 Webinar 1: Putting risk assessment to work in your practice: Easy steps to classify and personalize prevention About: Learn how to effectively implement Caries Management By Risk Assessment (CAMBRA) in your practice. This session will guide you through simple\, evidence-based steps to assess caries risk\, classify patients into low\, moderate\, or high risk\, and create personalized prevention plans. Discover how proper risk assessment can enhance treatment outcomes\, prevent decay\, and improve patient care. \n 30 April 2025 Webinar 2: Prevention for Life®: Keeping your patients caries free at all ages About: Explore how oral health risks vary across different life stages—from infants and pregnant mothers to adults and seniors. This webinar focuses on evidence-based methods to assess risk factors by age and develop tailored prevention strategies. Learn effective intervention techniques\, including fluoride varnish and home care products\, to help your patients maintain a caries-free life at every stage. \n21 May 2025 Webinar 3: Healthy patients\, healthy practice: Overcoming barriers to fluoride treatment About: Learn how to boost adult patient acceptance of preventive treatments by addressing common barriers such as time\, cost\, and insurance limitations. This session will guide you in implementing simple\, efficient risk assessment methods\, establishing evidence-based office protocols\, and fostering a practice philosophy focused on long-term oral health. Gain practical strategies to ensure healthier patients\, happier staff\, and a more successful practice.
URL:https://tannpleierforeningen.no/aktivitetskalender/webinar-serie-i-regi-av-edhf-12-mars/
LOCATION:Digitalt
CATEGORIES:Kurs
ATTACH;FMTTYPE=image/jpeg:https://tannpleierforeningen.no/wp-content/uploads/Donna-Brogan_SM_Centrix__12.03.2025.jpg
ORGANIZER;CN="EDHF":MAILTO:secretary@edhf.eu
END:VEVENT
BEGIN:VEVENT
DTSTART;VALUE=DATE:20250320
DTEND;VALUE=DATE:20250321
DTSTAMP:20260422T080821
CREATED:20220311T153450Z
LAST-MODIFIED:20220311T154240Z
UID:10000390-1742428800-1742515199@tannpleierforeningen.no
SUMMARY:Munnhelsedagen
DESCRIPTION:World Oral Health Day
URL:https://tannpleierforeningen.no/aktivitetskalender/munnhelsedagen/2025-03-20/
CATEGORIES:Markeringsdag
ATTACH;FMTTYPE=image/png:https://tannpleierforeningen.no/wp-content/uploads/WOHD_logo_English.png
END:VEVENT
BEGIN:VEVENT
DTSTART;TZID=Europe/Oslo:20250325T130000
DTEND;TZID=Europe/Oslo:20250325T150000
DTSTAMP:20260422T080821
CREATED:20250220T130206Z
LAST-MODIFIED:20250220T130206Z
UID:10000508-1742907600-1742914800@tannpleierforeningen.no
SUMMARY:Webinar: Diagnostikk\, forebygging og behandling av dentale hardvevsskader som karies\, tannslitasje\, mineraliseringsforstyrrelser og infraksjoner.
DESCRIPTION:NTpF arrangerer webinar om diagnostikk\, forebygging og behandling av dentale hardvevsskader som karies\, tannslitasje\, mineraliseringsforstyrrelser og infraksjoner. \nDette er tilstander som både tannpleiere og tannleger ser hver dag i klinisk praksis\, og en så tidlig som mulig diagnostikk og forebyggende tiltak er viktig. Foredraget vil være svært klinisk rettet\, og vil ha med rikelig med kliniske kasus. \nWebinaret streames direkte i Teams og koster 350\,- \nTid: Tirsdag 25. mars kl. 13.00-15.00Foredragsholder: \nTorgils Lægreid \nFørsteamanuensis ved IKO/Universitetet i Bergen og privatpraktiserende tannlege i Bergen. Han tok Cand.odont. ved UiB 1997\, PhD ved UiB 2011. Siden 2000 har han jobbet ved Universitetet i Bergen\, for det meste ved Seksjon for kariologi. Torgils er en utrolig flink formidler\, og har vunnet flere studentpriser ved universitetet. Han fikk i tillegg veldig mange gode tilbakemeldinger etter foredraget sitt under fagkonferansen på Voss i fjor. Dersom du gikk glipp av dette på Voss\, eller vil friske opp kunnskapen\, kommer det nå en ny anledning. \nMeld deg på her
URL:https://tannpleierforeningen.no/aktivitetskalender/webinar-diagnostikk-forebygging-og-behandling-av-dentale-hardvevsskader-som-karies-tannslitasje-mineraliseringsforstyrrelser-og-infraksjoner/
LOCATION:Digitalt
CATEGORIES:Kurs
ATTACH;FMTTYPE=image/jpeg:https://tannpleierforeningen.no/wp-content/uploads/Bilde-Torgils-L.jpg
ORGANIZER;CN="Norsk Tannpleierforening":MAILTO:post@tannpleier.no
END:VEVENT
BEGIN:VEVENT
DTSTART;VALUE=DATE:20250327
DTEND;VALUE=DATE:20250329
DTSTAMP:20260422T080821
CREATED:20241023T100903Z
LAST-MODIFIED:20241023T101347Z
UID:10000380-1743033600-1743206399@tannpleierforeningen.no
SUMMARY:Midt-Norgemøtet 2025
DESCRIPTION:Arrangeres av Trøndelag tannlegeforening. \nPåmelding starter 12. januar \n\nLink til NTF
URL:https://tannpleierforeningen.no/aktivitetskalender/midt-norgemotet-2025/
LOCATION:Trondheim\, Norge
CATEGORIES:Kurs
ATTACH;FMTTYPE=image/jpeg:https://tannpleierforeningen.no/wp-content/uploads/Midt-norgemotet25.jpg
END:VEVENT
BEGIN:VEVENT
DTSTART;VALUE=DATE:20250330
DTEND;VALUE=DATE:20250401
DTSTAMP:20260422T080821
CREATED:20220711T093251Z
LAST-MODIFIED:20220711T094824Z
UID:10000422-1743292800-1743382799@tannpleierforeningen.no
SUMMARY:Søknadsfrist kursstipendordning 1. halvår
DESCRIPTION:Les mer om stipendordningen her
URL:https://tannpleierforeningen.no/aktivitetskalender/soknadsfrist-kursstipendordning-1-halvar/2025-03-30/
CATEGORIES:Påminnelse
ATTACH;FMTTYPE=image/jpeg:https://tannpleierforeningen.no/wp-content/uploads/Stipendordning-illustrasjonsbilde.jpg
ORGANIZER;CN="Norsk Tannpleierforening":MAILTO:post@tannpleier.no
END:VEVENT
END:VCALENDAR