BEGIN:VCALENDAR
VERSION:2.0
PRODID:-//Norsk Tannpleierforenings medlemsside - ECPv6.15.20//NONSGML v1.0//EN
CALSCALE:GREGORIAN
METHOD:PUBLISH
X-ORIGINAL-URL:https://tannpleierforeningen.no
X-WR-CALDESC:Arrangement for Norsk Tannpleierforenings medlemsside
REFRESH-INTERVAL;VALUE=DURATION:PT1H
X-Robots-Tag:noindex
X-PUBLISHED-TTL:PT1H
BEGIN:VTIMEZONE
TZID:Europe/Oslo
BEGIN:DAYLIGHT
TZOFFSETFROM:+0100
TZOFFSETTO:+0200
TZNAME:CEST
DTSTART:20240331T010000
END:DAYLIGHT
BEGIN:STANDARD
TZOFFSETFROM:+0200
TZOFFSETTO:+0100
TZNAME:CET
DTSTART:20241027T010000
END:STANDARD
BEGIN:DAYLIGHT
TZOFFSETFROM:+0100
TZOFFSETTO:+0200
TZNAME:CEST
DTSTART:20250330T010000
END:DAYLIGHT
BEGIN:STANDARD
TZOFFSETFROM:+0200
TZOFFSETTO:+0100
TZNAME:CET
DTSTART:20251026T010000
END:STANDARD
BEGIN:DAYLIGHT
TZOFFSETFROM:+0100
TZOFFSETTO:+0200
TZNAME:CEST
DTSTART:20260329T010000
END:DAYLIGHT
BEGIN:STANDARD
TZOFFSETFROM:+0200
TZOFFSETTO:+0100
TZNAME:CET
DTSTART:20261025T010000
END:STANDARD
END:VTIMEZONE
BEGIN:VEVENT
DTSTART;TZID=Europe/Oslo:20250204T160000
DTEND;TZID=Europe/Oslo:20250204T203000
DTSTAMP:20260422T094924
CREATED:20250120T093437Z
LAST-MODIFIED:20250128T125026Z
UID:10000504-1738684800-1738701000@tannpleierforeningen.no
SUMMARY:Moderne teknologier med maskinell depurasjon og airpolish
DESCRIPTION:Moderne teknologier og behandlingsformer\, forebygging og behandling av periodontitt\, mucositt og peri-implantitt \nLIC scadenta\, Oslo
URL:https://tannpleierforeningen.no/aktivitetskalender/moderne-tannbehandling-med-maskinell-depurasjon-og-airpolish-copy/
LOCATION:Oslo\, Norway
CATEGORIES:Kurs
END:VEVENT
BEGIN:VEVENT
DTSTART;VALUE=DATE:20250205
DTEND;VALUE=DATE:20250206
DTSTAMP:20260422T094924
CREATED:20240905T094006Z
LAST-MODIFIED:20241217T130537Z
UID:10000483-1738713600-1738799999@tannpleierforeningen.no
SUMMARY:Tillitsvalgtsamling
DESCRIPTION:Mer informasjon blir sendt til tillitsvalgte direkte og lagt ut i Teams.
URL:https://tannpleierforeningen.no/aktivitetskalender/hovedtillitsvalgtsamling2024/
LOCATION:Oslo\, Norway
CATEGORIES:Kurs,Tillitsvalgtopplæring
ATTACH;FMTTYPE=image/jpeg:https://tannpleierforeningen.no/wp-content/uploads/om-tannpleierforeningen-norge.jpg
ORGANIZER;CN="Norsk Tannpleierforening":MAILTO:post@tannpleier.no
END:VEVENT
BEGIN:VEVENT
DTSTART;VALUE=DATE:20250206
DTEND;VALUE=DATE:20250208
DTSTAMP:20260422T094924
CREATED:20240814T114805Z
LAST-MODIFIED:20240814T115117Z
UID:10000369-1738800000-1738972799@tannpleierforeningen.no
SUMMARY:NOFOBI seminar 2025 Tønsberg
DESCRIPTION:NOFOBI Norsk forening for odontofobi arrangerer årlig seminar i februar. Påmelding og mer info finner du på nettsidene deres. \nPlanene for 2025 er foreløpig  Magnus\nHakeberg og Ulla Wide\, som vil dele praktiske erfaringer fra\nGøteborgs metode for behandling av odontofobi.\, samt\nMaria Sheikh som skal snakke om behandling av\ntannbehandlingsangst hos ungdom i alderen 13-18 år. Maren\nAgdal vil presentere utfordringer og løsninger ved brekning\nhos pasienter\, og Jan-Are Kolset Johnsen vil dele innsikter\nfra pasienthistorier på internett og i media: Hva kan vi lære\nav disse?
URL:https://tannpleierforeningen.no/aktivitetskalender/nofobi-seminar-2025/
LOCATION:Tønsberg\, Norway
CATEGORIES:Kurs
ORGANIZER;CN="NOFOBI":MAILTO:sekretar@nofobi.no
END:VEVENT
BEGIN:VEVENT
DTSTART;VALUE=DATE:20250206
DTEND;VALUE=DATE:20250208
DTSTAMP:20260422T094924
CREATED:20240919T070027Z
LAST-MODIFIED:20240919T070046Z
UID:10000491-1738800000-1738972799@tannpleierforeningen.no
SUMMARY:Fagkonferanse 2025-Oslo
DESCRIPTION:Alt om fagkonferansen og påmelding  her
URL:https://tannpleierforeningen.no/aktivitetskalender/fagkonferanse-2025-oslo-2/
LOCATION:Gardermoen
CATEGORIES:Kurs
ATTACH;FMTTYPE=image/jpeg:https://tannpleierforeningen.no/wp-content/uploads/Fagkonferansen-2025-scaled.jpg
ORGANIZER;CN="Norsk Tannpleierforening":MAILTO:post@tannpleier.no
END:VEVENT
BEGIN:VEVENT
DTSTART;VALUE=DATE:20250219
DTEND;VALUE=DATE:20250220
DTSTAMP:20260422T094924
CREATED:20241119T135700Z
LAST-MODIFIED:20241119T141235Z
UID:10000497-1739923200-1740009599@tannpleierforeningen.no
SUMMARY:Tannpleierstudenter i Oslo
DESCRIPTION:Norsk Tannpleierforening møter 3. års kullet i Oslo
URL:https://tannpleierforeningen.no/aktivitetskalender/mote-med-tannpleierstudenteneoslo/
CATEGORIES:Møte
ATTACH;FMTTYPE=image/jpeg:https://tannpleierforeningen.no/wp-content/uploads/lykke-til-student-23.jpg
END:VEVENT
BEGIN:VEVENT
DTSTART;VALUE=DATE:20250225
DTEND;VALUE=DATE:20250226
DTSTAMP:20260422T094924
CREATED:20241119T140504Z
LAST-MODIFIED:20241119T141326Z
UID:10000500-1740441600-1740527999@tannpleierforeningen.no
SUMMARY:Tannpleierstudenter i Bergen
DESCRIPTION:Norsk Tannpleierforening møter 1. og 3. års kullet ved Universitetet i Bergen
URL:https://tannpleierforeningen.no/aktivitetskalender/tannpleierstudenter-i-bergen/
CATEGORIES:Møte
ATTACH;FMTTYPE=image/jpeg:https://tannpleierforeningen.no/wp-content/uploads/lykke-til-student-23.jpg
END:VEVENT
BEGIN:VEVENT
DTSTART;TZID=Europe/Oslo:20250225T160000
DTEND;TZID=Europe/Oslo:20250225T203000
DTSTAMP:20260422T094924
CREATED:20250128T125517Z
LAST-MODIFIED:20250128T125555Z
UID:10000506-1740499200-1740515400@tannpleierforeningen.no
SUMMARY:Moderne Tannbehandling med maskinell depurasjon og airpolish
DESCRIPTION:Moderne teknologier og behandlingsformer\, forebygging og behandling av periodontitt\, mucositt og peri-implantitt \n\nVi vil gå gjennom viktigheten av å forstå biofilmen og hvordan den påvirker oral og generell helse\nAirpolish\, muligheter\, forebygging og behandling\nSub og supragingival airpolish\nNy ultralydteknologi og hvordan dette fungerer i praksis\nSub og supragingival utralydscaling\nForskningsbaserte metoder og protokoller for best mulig minimal invasiv behandling innen perio og profylakse\nWHOs resolusjon for oral helse og den globale strategien baserer seg på FNs agenda 2030 og bærekraftsmålene. Hva kan vi bidra med slik at disse mål skal kunne oppnås?\nHvordan kan vi tenke mer bærekraft i odontologisk praksis?\nHygiene og anbefalt smittevern\nHvordan ivareta det maskinelle utstyret\n\nPopulært kurs\, få plasser!
URL:https://tannpleierforeningen.no/aktivitetskalender/moderne-tannbehandling-med-maskinell-depurasjon-og-airpolish-copy-2/
CATEGORIES:Kurs
END:VEVENT
END:VCALENDAR