BEGIN:VCALENDAR
VERSION:2.0
PRODID:-//Norsk Tannpleierforenings medlemsside - ECPv6.15.20//NONSGML v1.0//EN
CALSCALE:GREGORIAN
METHOD:PUBLISH
X-WR-CALNAME:Norsk Tannpleierforenings medlemsside
X-ORIGINAL-URL:https://tannpleierforeningen.no
X-WR-CALDESC:Arrangement for Norsk Tannpleierforenings medlemsside
REFRESH-INTERVAL;VALUE=DURATION:PT1H
X-Robots-Tag:noindex
X-PUBLISHED-TTL:PT1H
BEGIN:VTIMEZONE
TZID:Europe/Oslo
BEGIN:DAYLIGHT
TZOFFSETFROM:+0100
TZOFFSETTO:+0200
TZNAME:CEST
DTSTART:20230326T010000
END:DAYLIGHT
BEGIN:STANDARD
TZOFFSETFROM:+0200
TZOFFSETTO:+0100
TZNAME:CET
DTSTART:20231029T010000
END:STANDARD
BEGIN:DAYLIGHT
TZOFFSETFROM:+0100
TZOFFSETTO:+0200
TZNAME:CEST
DTSTART:20240331T010000
END:DAYLIGHT
BEGIN:STANDARD
TZOFFSETFROM:+0200
TZOFFSETTO:+0100
TZNAME:CET
DTSTART:20241027T010000
END:STANDARD
BEGIN:DAYLIGHT
TZOFFSETFROM:+0100
TZOFFSETTO:+0200
TZNAME:CEST
DTSTART:20250330T010000
END:DAYLIGHT
BEGIN:STANDARD
TZOFFSETFROM:+0200
TZOFFSETTO:+0100
TZNAME:CET
DTSTART:20251026T010000
END:STANDARD
END:VTIMEZONE
BEGIN:VEVENT
DTSTART;TZID=Europe/Oslo:20240930T183000
DTEND;TZID=Europe/Oslo:20241002T200000
DTSTAMP:20260422T163320
CREATED:20240923T102830Z
LAST-MODIFIED:20240923T102916Z
UID:10000372-1727721000-1727899200@tannpleierforeningen.no
SUMMARY:Digitalt Lokallagsledermøte med leder
DESCRIPTION:Lokallagsledersamling med hoved- og plasstillitsvalgte. Samlingen vil være på Sundvollen hotell. \nPåmelding til samlingen blir sendt til tillitsvalgte og lokalledere i september. \nHer finner du informasjon for å planlegge reisen til Sundvollen hotell \nprogram for samlingen: \nProgramlokalledersamling oktober 2023 \nProgram tillitsvalgte Sundvollen 2023
URL:https://tannpleierforeningen.no/aktivitetskalender/digitalt-lokalledermote-med-leder/
LOCATION:Digitalt
CATEGORIES:Lokalavdeling,Tillitsvalgtopplæring
ATTACH;FMTTYPE=image/jpeg:https://tannpleierforeningen.no/wp-content/uploads/lokalledersamling-nettsiden.jpg
ORGANIZER;CN="Norsk Tannpleierforening":MAILTO:post@tannpleier.no
END:VEVENT
BEGIN:VEVENT
DTSTART;TZID=Europe/Oslo:20241001T160000
DTEND;TZID=Europe/Oslo:20241001T203000
DTSTAMP:20260422T163320
CREATED:20240917T092447Z
LAST-MODIFIED:20240917T092839Z
UID:10000485-1727798400-1727814600@tannpleierforeningen.no
SUMMARY:Kurs i moderne tannbehandling med maskinell depurasjon og airpolish- Stavanger
DESCRIPTION:
URL:https://tannpleierforeningen.no/aktivitetskalender/kurs-i-moderne-tannbehandling-med-maskinell-depurasjon/
LOCATION:Stavanger
CATEGORIES:Kurs
END:VEVENT
BEGIN:VEVENT
DTSTART;TZID=Europe/Oslo:20241002T170000
DTEND;TZID=Europe/Oslo:20241002T190000
DTSTAMP:20260422T163320
CREATED:20241023T084243Z
LAST-MODIFIED:20241023T084453Z
UID:10000377-1727888400-1727895600@tannpleierforeningen.no
SUMMARY:NTpF avd. Trøndelag Pasienten ønsker seg hvite tenner
DESCRIPTION:Kurs om tannbleking i samarbeid med Plandent \nForedragsholder: Lone Astrup fra Ultradent \nVestre Roste\, Plandents lokaler  \nServering: pizza og drikke  \nGratis lokalavdelingskurs
URL:https://tannpleierforeningen.no/aktivitetskalender/ntpf-avd-trondelag/
LOCATION:Oslo\, Norway
CATEGORIES:Kurs,Lokalavdeling
END:VEVENT
BEGIN:VEVENT
DTSTART;VALUE=DATE:20241010
DTEND;VALUE=DATE:20241011
DTSTAMP:20260422T163320
CREATED:20230705T122657Z
LAST-MODIFIED:20240923T090837Z
UID:10000466-1728518400-1728604799@tannpleierforeningen.no
SUMMARY:Verdensdagen for psykisk helse
DESCRIPTION:Verdensdagen for psykisk helse ble opprettet 10. oktober som en internasjonal FN-dag for å fremme bevissthet om psykisk helse over hele verden.\n																										 \nÅrets tema 2024 er #gi8minutter \nI år oppfordrer verdensdagen for psykisk helse det til å sette av 8 minutter hver dag til å ringe noen du bryr deg om. Det er enklere enn du tror\, og betyr mer enn du aner. \nVil du markere dagen finnes det masse tips og ideer med materiell på nettsiden: verdensdagen.no \nGi 8 minutterÅrets kampanje er først og fremst en enkel påminnelse om hvor viktig det er å sette av tid i en hektisk hverdag til å snakke med de du er glad i. \nMen hvorfor akkurat 8 minutter? \nEn studie fra 2021 viste til at korte\, regelmessige telefonsamtaler på rundt 10 minutter hadde en betydelig positiv effekt på ensomhet\, angst og depresjon. \nÅ høre stemmen til en du er glad i kan virke regulerende på vanskelige følelser og gjøre det lettere å komme gjennom belastende perioder. Vi har også lettere for å forstå og ha empati for de vi hører stemmen til. \nRegelmessige samtaler gjør at vi får trening i å sette ord på hvordan vi har det\, som kan styrke relasjonen. Vi har nemlig lettere for å stole på og knytte oss til mennesker som viser sårbarhet. \nVi er mange som sliter med å finne tid til å sjekke innom hverandre i en hektisk hverdag. Vi er også ofte uenige om når det er best å avslutte samtaler. Da er det lett at viktige relasjoner renner ut i sanden. Kanskje det å være enige om en felles tidsramme kan gjøre det lettere å ta kontakt? \nFor la oss være ærlige. Alle har 8 minutter til overs i løpet av en dag. \nEn av fem føler at de ikke har noen å vende seg til når de har det vanskelig. Men alle elsker å bli vendt til. \nVi trenger å snakke mer sammen. #gi8minutter \nKilde: verdensdagen.no
URL:https://tannpleierforeningen.no/aktivitetskalender/verdensdagen-for-psykisk-helse-2024-10-10/
CATEGORIES:Markeringsdag
ATTACH;FMTTYPE=image/webp:https://tannpleierforeningen.no/wp-content/uploads/verdensdagen-ny-bla.webp
END:VEVENT
BEGIN:VEVENT
DTSTART;VALUE=DATE:20241012
DTEND;VALUE=DATE:20241013
DTSTAMP:20260422T163320
CREATED:20220908T110925Z
LAST-MODIFIED:20220908T110925Z
UID:10000444-1728691200-1728777599@tannpleierforeningen.no
SUMMARY:Internasjonal Tannpleierdag
DESCRIPTION:
URL:https://tannpleierforeningen.no/aktivitetskalender/internasjonal-tannpleierdag/2024-10-12/
CATEGORIES:Markeringsdag
END:VEVENT
BEGIN:VEVENT
DTSTART;VALUE=DATE:20241012
DTEND;VALUE=DATE:20241013
DTSTAMP:20260422T163320
CREATED:20240918T124430Z
LAST-MODIFIED:20240918T124603Z
UID:10000490-1728691200-1728777599@tannpleierforeningen.no
SUMMARY:Internasjonal Tannpleierdag
DESCRIPTION:FOREBYGGING ER VEIEN VIDERE I dag\, 12.oktober\, er den internasjonale tannpleierdagen.  \nForebygging av tannsykdommer er bra for både tennene og resten av kroppen! Følg de syv tipsene  og snakk med tannpleieren din om hva du kan gjøre for å holde tennene sunne. \n* Puss tennene to ganger om dagen* Bruk myk tannbørste* Bruk fluortannkrem* Ikke skyll med vann etter å ha pusset tennene* Bruk mellomromsbørste* Drikk vann* Spør tannpleieren din om rådFå flere råd for munnhygiene på  www.tannpleier.no
URL:https://tannpleierforeningen.no/aktivitetskalender/internasjonal-tannpleierdag-2/2024-10-12/
CATEGORIES:Markeringsdag
ATTACH;FMTTYPE=image/jpeg:https://tannpleierforeningen.no/wp-content/uploads/TpDag121023.jpg
END:VEVENT
BEGIN:VEVENT
DTSTART;VALUE=DATE:20241017
DTEND;VALUE=DATE:20241019
DTSTAMP:20260422T163320
CREATED:20240923T115636Z
LAST-MODIFIED:20240923T115840Z
UID:10000373-1729123200-1729295999@tannpleierforeningen.no
SUMMARY:NFP-seminar 2024
DESCRIPTION:Norsk Forening for Pedodonti-seminar 2024\n\n\n\n\nPåmeldingen har åpnet! \n17. og 18. oktober 2024 \nScandic Nidelven hotell i Trondheim \nTema: Erosjoner og motiverende intervju \nGå til nettsiden for mer informasjon: nfpedodonti.no
URL:https://tannpleierforeningen.no/aktivitetskalender/nfp-seminar-2024/
LOCATION:Trondheim\, Norge
CATEGORIES:Kurs
END:VEVENT
BEGIN:VEVENT
DTSTART;TZID=Europe/Oslo:20241017T181500
DTEND;TZID=Europe/Oslo:20241017T191500
DTSTAMP:20260422T163320
CREATED:20240924T051648Z
LAST-MODIFIED:20240925T120316Z
UID:10000374-1729188900-1729192500@tannpleierforeningen.no
SUMMARY:NTpF avd. Vestfold digitalt Opus kurs -tips og triks
DESCRIPTION:Digitalt kurs med Opus som viser tips og triks i journalsystemet. \nMedlemmer i Vestfold lokalavdeling betaler  250\,-  \nAndre medlemmer i Norsk Tannpleierforening betaler 450\,- \n			\n									Meld deg på her
URL:https://tannpleierforeningen.no/aktivitetskalender/ntpf-avd-vestfold-digitalt-opus-kurs-tips-og-triks/
LOCATION:Digitalt
CATEGORIES:Kurs,Lokalavdeling
END:VEVENT
BEGIN:VEVENT
DTSTART;TZID=Europe/Oslo:20241021T090000
DTEND;TZID=Europe/Oslo:20241022T160000
DTSTAMP:20260422T163320
CREATED:20240828T080013Z
LAST-MODIFIED:20241008T110727Z
UID:10000370-1729501200-1729612800@tannpleierforeningen.no
SUMMARY:Den orale undersøkelsen -kurs
DESCRIPTION:NTpF og UiO gjentar kurset fra fjor høst i samarbeid med institutt for oral biologi\, UiO.  \nVi utfører gjerne en oral undersøkelse\, men forstår vi den? Hvordan forbereder man seg best for god oral helse i alderdom? Hva er reelle/kliniske problemstillinger/endringer man kan forvente å se hos den godt voksne pasienten? \nDette medlemskurset er i regi av NTpF i samarbeid med Institutt for oral biologi\, Universitetet i Oslo. \nKurset er kun for medlemmer. \nkursprogram IOB 2024 \nTo dagers kurs inkl. lunsj 4000\,- \nVi har fått spørsmål om kurset kan streames\, men det er ikke aktuelt i år\, men ved evt. gjentagelse kan det være aktuelt. \n			\n									Meld deg på
URL:https://tannpleierforeningen.no/aktivitetskalender/kurs-den-orale-undersokelsen2024/
LOCATION:Institutt for Oral Biologi\, Sognsvannsveien 10\, Oslo\, Norge
CATEGORIES:Kurs
ATTACH;FMTTYPE=image/jpeg:https://tannpleierforeningen.no/wp-content/uploads/institutt-for-oral-biologi-UiO.jpg
ORGANIZER;CN="Norsk Tannpleierforening":MAILTO:post@tannpleier.no
END:VEVENT
BEGIN:VEVENT
DTSTART;TZID=Europe/Oslo:20241021T173000
DTEND;TZID=Europe/Oslo:20241021T210000
DTSTAMP:20260422T163320
CREATED:20240923T092225Z
LAST-MODIFIED:20240923T101646Z
UID:10000371-1729531800-1729544400@tannpleierforeningen.no
SUMMARY:NTpF avd. Oslo&Akershus Høstkurs
DESCRIPTION:Velkommen til høstkurs i Lokalavdeling Oslo & Akershus \nPROGRAM17:30-18:00 Mat og drikke18:00-19:00 Kurs v/Amanda Dalila Sahnoun Selvstendig næringsdrivende tannpleierTEMA iT op introduksjon Indivi dual trainer of oral prophylaxisHvordan munnhelse påvirker systemiske sykdommer? Hvorfor gjør vi det vi gjør- og hvordan oppnå biofilm-symbiose? Pasient motivasjon og kommunikasjon \n19:00-19:15 Pause19:15 -20:15 Kurs v/ Linda Holstad Kjølstadmyr\, spes. tannpleier og nasjonal manager for Dentalsupport Norge TEMA Minimalinvasiv forskningsbasert protokoll og minimalinvasive arbeidsmetoder for oss tannpleiere20:15-20:45 LIC Scadenta- produktpresentasjon av blekemiddel HealthySmile og omvisning på labenDATO: Mandag 21.10.2024\, \nTid: 17:30-20:45 \nSTED: LIC Scadenta Tannteknikk Adresse: Østensjøveien 34\, 0667 OSLOPåmelding til:ntpfavdosloogakershus@gmail.com Frist: 06.10.2024 (meld om allergier)Velkommen til høstkursi Lokalforening Oslo & Akershus
URL:https://tannpleierforeningen.no/aktivitetskalender/ntpf-avd-osloakershus-hostkurs/
LOCATION:Oslo\, Norway
CATEGORIES:Kurs,Lokalavdeling
END:VEVENT
BEGIN:VEVENT
DTSTART;TZID=Europe/Oslo:20241022T133000
DTEND;TZID=Europe/Oslo:20241022T150000
DTSTAMP:20260422T163320
CREATED:20240917T090042Z
LAST-MODIFIED:20241001T072917Z
UID:10000484-1729603800-1729609200@tannpleierforeningen.no
SUMMARY:Kurs i NTpF avd. Nordland - Salitugonese
DESCRIPTION:Tema: Salutogenese og oral helse \nForedragsholder: Kine Mathisen UiT \nMasteroppgaven til Kine Mathisen heter: Oral helse og opplevelse av sammenheng i livet. \nBakgrunn: Salutogenese er en teori innenfor helsefremmende arbeid som handler om helsens opprinnelse og hva som fremmer helse. \nPåmelding finner du her
URL:https://tannpleierforeningen.no/aktivitetskalender/kurs-i-ntpf-avd-nordland/
LOCATION:Digitalt
CATEGORIES:Kurs,Lokalavdeling
ATTACH;FMTTYPE=image/jpeg:https://tannpleierforeningen.no/wp-content/uploads/Kine-mathisen-scaled.jpg
END:VEVENT
BEGIN:VEVENT
DTSTART;VALUE=DATE:20241031
DTEND;VALUE=DATE:20241103
DTSTAMP:20260422T163320
CREATED:20231201T090205Z
LAST-MODIFIED:20240919T122514Z
UID:10000357-1730332800-1730591999@tannpleierforeningen.no
SUMMARY:Nordental og NTFs landsmøte 2024
DESCRIPTION:Påmeldingssiden er www.NTFslandsmote.no\, men hele fagprogrammet er annonsert på www.tannlegeforeningen.no/landsmotet. Som det står i beskrivelsen har NTF ingen foredrag spesielt rettet mot kun tannpleiere\, men de står fritt til å velge fra hele fagprogrammet og kan delta på de foredragene de finner mest interessante. \n  \nNB lavpåmeldingsavgift før 11. oktober
URL:https://tannpleierforeningen.no/aktivitetskalender/nordental-2024/
LOCATION:Nova Spektum\, Lillestrøm\, Lillestrøm
CATEGORIES:Kurs
ATTACH;FMTTYPE=image/jpeg:https://tannpleierforeningen.no/wp-content/uploads/NTF_Logo_Landsmote_Vert_RGB.jpg
END:VEVENT
BEGIN:VEVENT
DTSTART;TZID=Europe/Oslo:20241031T170000
DTEND;TZID=Europe/Oslo:20241031T180000
DTSTAMP:20260422T163320
CREATED:20241023T085213Z
LAST-MODIFIED:20241023T085441Z
UID:10000378-1730394000-1730397600@tannpleierforeningen.no
SUMMARY:NTpF avd. Trøndelag kurs om rus og ruspasienter
DESCRIPTION:Kurs om rus og ruspasienter \nForedragsholder: Morten Møller Olsø fra Korus (Kompetansesenter for rusfeltet) \nSentrum tannklinikk\, Prinsensgate 1 7013 TrondheimKurset streames i tillegg på Teams \n15 plasser fysisk påmelding via e-post \nServering: pizza  \nGratis lokalavdelingskurs
URL:https://tannpleierforeningen.no/aktivitetskalender/ntpf-avd-trondelag-rus-og-ruspasienter/
LOCATION:Trondheim\, Norge
CATEGORIES:Kurs,Lokalavdeling
END:VEVENT
END:VCALENDAR