BEGIN:VCALENDAR
VERSION:2.0
PRODID:-//Norsk Tannpleierforenings medlemsside - ECPv6.15.20//NONSGML v1.0//EN
CALSCALE:GREGORIAN
METHOD:PUBLISH
X-WR-CALNAME:Norsk Tannpleierforenings medlemsside
X-ORIGINAL-URL:https://tannpleierforeningen.no
X-WR-CALDESC:Arrangement for Norsk Tannpleierforenings medlemsside
REFRESH-INTERVAL;VALUE=DURATION:PT1H
X-Robots-Tag:noindex
X-PUBLISHED-TTL:PT1H
BEGIN:VTIMEZONE
TZID:Europe/Oslo
BEGIN:DAYLIGHT
TZOFFSETFROM:+0100
TZOFFSETTO:+0200
TZNAME:CEST
DTSTART:20230326T010000
END:DAYLIGHT
BEGIN:STANDARD
TZOFFSETFROM:+0200
TZOFFSETTO:+0100
TZNAME:CET
DTSTART:20231029T010000
END:STANDARD
BEGIN:DAYLIGHT
TZOFFSETFROM:+0100
TZOFFSETTO:+0200
TZNAME:CEST
DTSTART:20240331T010000
END:DAYLIGHT
BEGIN:STANDARD
TZOFFSETFROM:+0200
TZOFFSETTO:+0100
TZNAME:CET
DTSTART:20241027T010000
END:STANDARD
BEGIN:DAYLIGHT
TZOFFSETFROM:+0100
TZOFFSETTO:+0200
TZNAME:CEST
DTSTART:20250330T010000
END:DAYLIGHT
BEGIN:STANDARD
TZOFFSETFROM:+0200
TZOFFSETTO:+0100
TZNAME:CET
DTSTART:20251026T010000
END:STANDARD
END:VTIMEZONE
BEGIN:VEVENT
DTSTART;TZID=Europe/Oslo:20240916T100000
DTEND;TZID=Europe/Oslo:20240916T150000
DTSTAMP:20260422T181108
CREATED:20240703T095913Z
LAST-MODIFIED:20240703T103359Z
UID:10000366-1726480800-1726498800@tannpleierforeningen.no
SUMMARY:Munn og halskreftdagen 2024
DESCRIPTION:Munn- og halskreftforeningen arrangerer den niende utgaven av Munn- og halskreftdagen 16. september på Ullern videregående skole i Oslo. Dette er en nasjonal fagdag for for spesialister\, onkologer\, sykepleiere\, tannleger og andre som jobber med munn- og halskreft. \nDet blir et tre-delt program \nDel 1 Forskning og brukermedvirkning \nKliniske studier – er Norge stort nok? \nBrukermedvirkning \nDel 2: Innovativ behandling og seneffekter \nKunstig intelligens i kliniske studier om stråleterapi \nProtonterapi og seneffekter \nSeneffektpoliklinikken på St. Olav og tverrfaglige team \nSamhandling om orale seneffekter \nDel 3: Oppfølgning og livskvalitet hos kreftpasienten \nPakkeforløp hjem \nHPV og hode- halskreft \nLæringsfilmer om livet med munn- og halskreft \n  \nMer om programmet\, forelesere og dagen kan dere lese om her munnoghalskreftdagen.no/ \n 
URL:https://tannpleierforeningen.no/aktivitetskalender/munn-og-halskreftdagen-2024/
LOCATION:Oslo\, Norway
CATEGORIES:Kurs
ATTACH;FMTTYPE=image/jpeg:https://tannpleierforeningen.no/wp-content/uploads/Munn-og-halskreftdagen.jpg
END:VEVENT
BEGIN:VEVENT
DTSTART;VALUE=DATE:20240920
DTEND;VALUE=DATE:20240922
DTSTAMP:20260422T181108
CREATED:20231101T074427Z
LAST-MODIFIED:20231101T074929Z
UID:10000354-1726790400-1726963199@tannpleierforeningen.no
SUMMARY:EDHF Generalforsamling i Edinburgh
DESCRIPTION:Møte for hvert lands representanter fra foreningene i EDHF (European Dental Hygienist Assosiation) som arrangeres i Edinburgh\, Scotland 2024
URL:https://tannpleierforeningen.no/aktivitetskalender/edhf-generalforsamling-i-edinburg/
CATEGORIES:Møte
ATTACH;FMTTYPE=image/jpeg:https://tannpleierforeningen.no/wp-content/uploads/EDHF_logo-002.jpg
ORGANIZER;CN="EDHF":MAILTO:secretary@edhf.eu
END:VEVENT
BEGIN:VEVENT
DTSTART;TZID=Europe/Oslo:20240920T090000
DTEND;TZID=Europe/Oslo:20240920T150000
DTSTAMP:20260422T181108
CREATED:20240828T111229Z
LAST-MODIFIED:20240904T131600Z
UID:10000482-1726822800-1726844400@tannpleierforeningen.no
SUMMARY:NTpF avd. Vestland Høstkurs
DESCRIPTION:NTpF\, avd Vestland inviterer til heldagskurs \n\n September kl. 09.00 – 15.00\n\nSted: Alrek Helseklynge\, Årstadveien 17  (like ved Odontologen) \nVi kan by på spennende og aktuelle tema denne kursdagen\, Periimplantitt\, TMD og ITI \nProgram: \n09.00 – 11.45       Periimplantitt – forebygging/ behandling og iti info. \n11.45 – 12.45       Lunsj \n12.45 – 13.45       Temporomandibulær dysfunksjon – diagnostikk og        behandling \n14 .00 –15.00       Informasjon fra sponsorer \nPåmeldingfrist 13. September \nPris : 1500\,- inkluderer varm lunsj og pausemat \nEarly-bird pris: 1200\,- ved påmelding innen 01/09 \nVennligst gi oss beskjed hvis du har matallergi \nVi har også lagt opp til at medlemmer ut i distriktet og rundt om i landet  får sjansen til å følge kurset på teams. Pris: 950\,- \nVelkommen til kurs \n			\n									Meld deg på her\n					 \nKristian Hamill Lind \nDDS 2010\, PUMS\, spesialist i periodonti 2021\, UIB. \nHar jobbet som allmenntannlege i Kristiansand frem til 2015. Flyttet da til Bergen og overtok tannlegepraksis i Åsane. Etter endt videreutdannelse jobber han som spesialist i periodonti ved Oris Dental Tårnplassen og som spesialtannlege og klinisk veileder ved Spesialistklinikken IKO\, UIB. \nPeriimplantitt er blitt vårt fagfelts nye hodepine. Kurset tar for seg ulike retninger for forebygging og behandling – vi tar et dypdykk i   teorien\, og det blir presentert kasus som tar oss gjennom hvordan forebyggingen allerede starter    planleggingsfasen. \nTorbjørn Østvik Pedersen \nSpesialist i oral kirurgi og oral medisin og førsteamanuensis \nInstitutt for kliniskodontologi-UiB og Kjevekirurgisk avdeling-Haukeland universitetssykehusStuderte ved universitet i Bergen\, uteksaminert i 2010 \nSpesialisering i oral kirurgi og oral medisin fra UiB og Haukelanduniversitetssykehus i 2019 og doktorgad (PhD) i stamcellebiologi og kjevebeinsregenerasjon. Arbeidserfaring: Klinikk- og forskningsopphold i Khartoum(Sudan)\, Boston(USA) og Innsbruck(Østerrike). Overtannlege ved kjevekirurgisk avdeling\, Haukeland       universitetssykehus fra 2019. Førsteamanuensis i oral kirurgi og oral medisin ved Universitetet i Bergen fra 2021. \nChristine Jonsgar \nTannlege utdannelse fra Radboud Universitair Medisch Centrum Nijmegen i Nederland og University of Glasgow i Skottland\, og sin spesialistutdannelse fra Det medisinsk-odontologiske fakultet ved Universitetet i Bergen. \nHun er spesialist i oral protetikk og bittfunksjon og har bred erfaring. Hun er ansatt ved Bergen Tannhelsesenter\, og jobber også som instruktørtannlege på seksjon for protetikk på Det medisinsk-odontologiske fakultet i Bergen og på spesialistklinikken. \n  \nPåmeldingfrist 13. September \nPris : 1500\,- inkluderer varm lunsj og pausemat \nEarly-bird pris: 1200\,- ved påmelding innen 01/09 \nVennligst gi oss beskjed hvis du har matallergi \nVi har også lagt opp til at medlemmer ut i distriktet og rundt om i landet  får sjansen til å følge kurset på teams. Pris: 950\,- \nVelkommen til kurs
URL:https://tannpleierforeningen.no/aktivitetskalender/ntpf-avd-vestland-hostkurs/
LOCATION:NTpF -Vestland lokalavdeling
CATEGORIES:Kurs,Lokalavdeling
ATTACH;FMTTYPE=image/jpeg:https://tannpleierforeningen.no/wp-content/uploads/Vestland-kurs-nettside-e1724849730955.jpg
END:VEVENT
BEGIN:VEVENT
DTSTART;TZID=Europe/Oslo:20240924T190000
DTEND;TZID=Europe/Oslo:20240924T190000
DTSTAMP:20260422T181108
CREATED:20240917T093630Z
LAST-MODIFIED:20240917T093630Z
UID:10000486-1727204400-1727204400@tannpleierforeningen.no
SUMMARY:TePe webinar september
DESCRIPTION:Gratis Webinar\nChoosing the best tool for cleaning between the teeth\n\nDate:24 and 25 September \nLocation:Online \nDuration:45 min + Q&A \nPresenter/s:Heather Wong\, MSDH\, RDH
URL:https://tannpleierforeningen.no/aktivitetskalender/tepe-webinar-september/
LOCATION:Digitalt
CATEGORIES:Kurs
END:VEVENT
BEGIN:VEVENT
DTSTART;TZID=Europe/Oslo:20240925T120000
DTEND;TZID=Europe/Oslo:20240925T130000
DTSTAMP:20260422T181108
CREATED:20240917T093813Z
LAST-MODIFIED:20240917T093813Z
UID:10000488-1727265600-1727269200@tannpleierforeningen.no
SUMMARY:TePe webinar september
DESCRIPTION:Gratis Webinar\nChoosing the best tool for cleaning between the teeth\n\nDate:24 and 25 September \nLocation:Online \nDuration:45 min + Q&A \nPresenter/s:Heather Wong\, MSDH\, RDH
URL:https://tannpleierforeningen.no/aktivitetskalender/tepe-webinar-september-2/
LOCATION:Digitalt
CATEGORIES:Kurs
END:VEVENT
BEGIN:VEVENT
DTSTART;TZID=Europe/Oslo:20240926T123000
DTEND;TZID=Europe/Oslo:20240926T130000
DTSTAMP:20260422T181108
CREATED:20240405T063747Z
LAST-MODIFIED:20240924T105344Z
UID:10000474-1727353800-1727355600@tannpleierforeningen.no
SUMMARY:Tannhelseutvalget fremlegger NOU
DESCRIPTION:Denne dagen blir det pressekonferanse der utvalgsleder Evy-Anni Evensen overleverer NOU( Nasjonal Offentlig Utredning) til Helse- og omsorgsminister Jan Christian Vestre. Utvalgsmedlemmer vil også være tilstede. \n\nTannhelseutvalget \n\n \nOverleveringen strømmes direkte på regjeringen.no kl 13:00.  \n			\n									Til strømmingen på Regjeringen.no
URL:https://tannpleierforeningen.no/aktivitetskalender/tannhelseutvalget-fremlegger-nou/
LOCATION:Oslo\, Norway
CATEGORIES:Møte,Politisk påvirkning
ATTACH;FMTTYPE=image/jpeg:https://tannpleierforeningen.no/wp-content/uploads/Tannhelseutvalget-nettside.jpg
END:VEVENT
BEGIN:VEVENT
DTSTART;VALUE=DATE:20240930
DTEND;VALUE=DATE:20241001
DTSTAMP:20260422T181108
CREATED:20220711T093434Z
LAST-MODIFIED:20220826T113237Z
UID:10000426-1727654400-1727740799@tannpleierforeningen.no
SUMMARY:Søknadsfrist kursstipendordning 2. halvår
DESCRIPTION:Les mer om stipendordningen\, kriterier og hvordan du søker her
URL:https://tannpleierforeningen.no/aktivitetskalender/soknadsfrist-kursstipendordning-2-halvar/2024-09-30/
CATEGORIES:Påminnelse
ATTACH;FMTTYPE=image/jpeg:https://tannpleierforeningen.no/wp-content/uploads/Stipendordning-illustrasjonsbilde.jpg
ORGANIZER;CN="Norsk Tannpleierforening":MAILTO:post@tannpleier.no
END:VEVENT
BEGIN:VEVENT
DTSTART;TZID=Europe/Oslo:20240930T183000
DTEND;TZID=Europe/Oslo:20241002T200000
DTSTAMP:20260422T181108
CREATED:20240923T102830Z
LAST-MODIFIED:20240923T102916Z
UID:10000372-1727721000-1727899200@tannpleierforeningen.no
SUMMARY:Digitalt Lokallagsledermøte med leder
DESCRIPTION:Lokallagsledersamling med hoved- og plasstillitsvalgte. Samlingen vil være på Sundvollen hotell. \nPåmelding til samlingen blir sendt til tillitsvalgte og lokalledere i september. \nHer finner du informasjon for å planlegge reisen til Sundvollen hotell \nprogram for samlingen: \nProgramlokalledersamling oktober 2023 \nProgram tillitsvalgte Sundvollen 2023
URL:https://tannpleierforeningen.no/aktivitetskalender/digitalt-lokalledermote-med-leder/
LOCATION:Digitalt
CATEGORIES:Lokalavdeling,Tillitsvalgtopplæring
ATTACH;FMTTYPE=image/jpeg:https://tannpleierforeningen.no/wp-content/uploads/lokalledersamling-nettsiden.jpg
ORGANIZER;CN="Norsk Tannpleierforening":MAILTO:post@tannpleier.no
END:VEVENT
END:VCALENDAR