BEGIN:VCALENDAR
VERSION:2.0
PRODID:-//Norsk Tannpleierforenings medlemsside - ECPv6.15.20//NONSGML v1.0//EN
CALSCALE:GREGORIAN
METHOD:PUBLISH
X-WR-CALNAME:Norsk Tannpleierforenings medlemsside
X-ORIGINAL-URL:https://tannpleierforeningen.no
X-WR-CALDESC:Arrangement for Norsk Tannpleierforenings medlemsside
REFRESH-INTERVAL;VALUE=DURATION:PT1H
X-Robots-Tag:noindex
X-PUBLISHED-TTL:PT1H
BEGIN:VTIMEZONE
TZID:Europe/Oslo
BEGIN:DAYLIGHT
TZOFFSETFROM:+0100
TZOFFSETTO:+0200
TZNAME:CEST
DTSTART:20230326T010000
END:DAYLIGHT
BEGIN:STANDARD
TZOFFSETFROM:+0200
TZOFFSETTO:+0100
TZNAME:CET
DTSTART:20231029T010000
END:STANDARD
BEGIN:DAYLIGHT
TZOFFSETFROM:+0100
TZOFFSETTO:+0200
TZNAME:CEST
DTSTART:20240331T010000
END:DAYLIGHT
BEGIN:STANDARD
TZOFFSETFROM:+0200
TZOFFSETTO:+0100
TZNAME:CET
DTSTART:20241027T010000
END:STANDARD
BEGIN:DAYLIGHT
TZOFFSETFROM:+0100
TZOFFSETTO:+0200
TZNAME:CEST
DTSTART:20250330T010000
END:DAYLIGHT
BEGIN:STANDARD
TZOFFSETFROM:+0200
TZOFFSETTO:+0100
TZNAME:CET
DTSTART:20251026T010000
END:STANDARD
END:VTIMEZONE
BEGIN:VEVENT
DTSTART;TZID=Europe/Oslo:20240926T123000
DTEND;TZID=Europe/Oslo:20240926T130000
DTSTAMP:20260422T014518
CREATED:20240405T063747Z
LAST-MODIFIED:20240924T105344Z
UID:10000474-1727353800-1727355600@tannpleierforeningen.no
SUMMARY:Tannhelseutvalget fremlegger NOU
DESCRIPTION:Denne dagen blir det pressekonferanse der utvalgsleder Evy-Anni Evensen overleverer NOU( Nasjonal Offentlig Utredning) til Helse- og omsorgsminister Jan Christian Vestre. Utvalgsmedlemmer vil også være tilstede. \n\nTannhelseutvalget \n\n \nOverleveringen strømmes direkte på regjeringen.no kl 13:00.  \n			\n									Til strømmingen på Regjeringen.no
URL:https://tannpleierforeningen.no/aktivitetskalender/tannhelseutvalget-fremlegger-nou/
LOCATION:Oslo\, Norway
CATEGORIES:Møte,Politisk påvirkning
ATTACH;FMTTYPE=image/jpeg:https://tannpleierforeningen.no/wp-content/uploads/Tannhelseutvalget-nettside.jpg
END:VEVENT
END:VCALENDAR