BEGIN:VCALENDAR
VERSION:2.0
PRODID:-//Norsk Tannpleierforenings medlemsside - ECPv6.15.20//NONSGML v1.0//EN
CALSCALE:GREGORIAN
METHOD:PUBLISH
X-ORIGINAL-URL:https://tannpleierforeningen.no
X-WR-CALDESC:Arrangement for Norsk Tannpleierforenings medlemsside
REFRESH-INTERVAL;VALUE=DURATION:PT1H
X-Robots-Tag:noindex
X-PUBLISHED-TTL:PT1H
BEGIN:VTIMEZONE
TZID:Europe/Oslo
BEGIN:DAYLIGHT
TZOFFSETFROM:+0100
TZOFFSETTO:+0200
TZNAME:CEST
DTSTART:20230326T010000
END:DAYLIGHT
BEGIN:STANDARD
TZOFFSETFROM:+0200
TZOFFSETTO:+0100
TZNAME:CET
DTSTART:20231029T010000
END:STANDARD
BEGIN:DAYLIGHT
TZOFFSETFROM:+0100
TZOFFSETTO:+0200
TZNAME:CEST
DTSTART:20240331T010000
END:DAYLIGHT
BEGIN:STANDARD
TZOFFSETFROM:+0200
TZOFFSETTO:+0100
TZNAME:CET
DTSTART:20241027T010000
END:STANDARD
BEGIN:DAYLIGHT
TZOFFSETFROM:+0100
TZOFFSETTO:+0200
TZNAME:CEST
DTSTART:20250330T010000
END:DAYLIGHT
BEGIN:STANDARD
TZOFFSETFROM:+0200
TZOFFSETTO:+0100
TZNAME:CET
DTSTART:20251026T010000
END:STANDARD
END:VTIMEZONE
BEGIN:VEVENT
DTSTART;TZID=Europe/Oslo:20240629T100000
DTEND;TZID=Europe/Oslo:20240629T170000
DTSTAMP:20260421T110306
CREATED:20240606T110805Z
LAST-MODIFIED:20240606T111533Z
UID:10000364-1719655200-1719680400@tannpleierforeningen.no
SUMMARY:Pridefrokost i Oslo
DESCRIPTION:Velkommen til felles Unio-frokost før Pride-paraden 29. juni \nFrokosten arrangeres i Hausmannsgate 17. \nDet blir enkel og hyggelig servering av brødmat og varm og kald drikke. Det blir quiz og ikke minst gode muligheter til å treffe nye og gamle bekjentskap og ha det moro sammen. \nTa med deg kjæresten\, ungene eller en venn og bli med! \nMeld deg på ved å sende en e-post til uniopridefrokost@gmail.com senest torsdag 20.juni. \nPåmeldingen må inneholde: Fullt navn\, hvilken fagforening du tilhører\, om du eventuelt har med deg andre gjester (oppgi antall og om de er voksne eller barn)\, og om det er spesielle mathensyn eller annet vi må vite om. \nPåmeldingen er gyldig først når du har fått en e-post med bekreftelse. \nDersom du er påmeldt\, men ikke har anledning til å komme likevel\, ber vi deg gi beskjed så fort som mulig slik at vi eventuelt kan gi plassen din til noen andre. \nHvor: Hausmanns gate 17\, 0182 Oslo \nNår: Lørdag 29. juni klokka 10Hvem: Medlemmer i Unio-forbund med familie og vennerPåmeldingsfrist: 20. juni \nVi håper du blir med på frokost og parade! \n  \nLes gjerne mer her: Pride: 50 år med blod\, svette\, tårer – og glam (unio.no) \n  \n 
URL:https://tannpleierforeningen.no/aktivitetskalender/pridefrokost-i-oslo/
CATEGORIES:Markeringsdag,Møte
ATTACH;FMTTYPE=image/webp:https://tannpleierforeningen.no/wp-content/uploads/Unio-Pride-2024-27749602-two-girls-posing-under-a-rainbow-umbrella-at-the-pride-1536x1024-1.webp
END:VEVENT
END:VCALENDAR