BEGIN:VCALENDAR
VERSION:2.0
PRODID:-//Norsk Tannpleierforenings medlemsside - ECPv6.15.20//NONSGML v1.0//EN
CALSCALE:GREGORIAN
METHOD:PUBLISH
X-ORIGINAL-URL:https://tannpleierforeningen.no
X-WR-CALDESC:Arrangement for Norsk Tannpleierforenings medlemsside
REFRESH-INTERVAL;VALUE=DURATION:PT1H
X-Robots-Tag:noindex
X-PUBLISHED-TTL:PT1H
BEGIN:VTIMEZONE
TZID:Europe/Oslo
BEGIN:DAYLIGHT
TZOFFSETFROM:+0100
TZOFFSETTO:+0200
TZNAME:CEST
DTSTART:20240331T010000
END:DAYLIGHT
BEGIN:STANDARD
TZOFFSETFROM:+0200
TZOFFSETTO:+0100
TZNAME:CET
DTSTART:20241027T010000
END:STANDARD
BEGIN:DAYLIGHT
TZOFFSETFROM:+0100
TZOFFSETTO:+0200
TZNAME:CEST
DTSTART:20250330T010000
END:DAYLIGHT
BEGIN:STANDARD
TZOFFSETFROM:+0200
TZOFFSETTO:+0100
TZNAME:CET
DTSTART:20251026T010000
END:STANDARD
BEGIN:DAYLIGHT
TZOFFSETFROM:+0100
TZOFFSETTO:+0200
TZNAME:CEST
DTSTART:20260329T010000
END:DAYLIGHT
BEGIN:STANDARD
TZOFFSETFROM:+0200
TZOFFSETTO:+0100
TZNAME:CET
DTSTART:20261025T010000
END:STANDARD
END:VTIMEZONE
BEGIN:VEVENT
DTSTART;TZID=Europe/Oslo:20250918T173000
DTEND;TZID=Europe/Oslo:20250918T200000
DTSTAMP:20260422T145247
CREATED:20250827T072231Z
LAST-MODIFIED:20250827T080833Z
UID:10000532-1758216600-1758225600@tannpleierforeningen.no
SUMMARY:NTpF avd. Trøndelag -Gratis digitalt kurs med oral patolog
DESCRIPTION:Invitasjon til gratis kurs med Nils Petter Fossland \n– i regi av Trøndelag Tannpleierforening \nTrøndelag Tannpleierforening har gleden av å invitere alle medlemmer i Tannpleierforeningen til et gratis kurs innen oral patologi\, med foredrag av Nils Petter Fossland. \n\nLes mer og Meld deg på her
URL:https://tannpleierforeningen.no/aktivitetskalender/ntpf-avd-trondelag-gratis-digitalt-kurs-med-oral-patolog/
LOCATION:Digitalt
CATEGORIES:Kurs,Lokalavdeling
END:VEVENT
BEGIN:VEVENT
DTSTART;TZID=Europe/Oslo:20250923T163000
DTEND;TZID=Europe/Oslo:20250923T193000
DTSTAMP:20260422T145247
CREATED:20250905T110414Z
LAST-MODIFIED:20250905T110414Z
UID:10000533-1758645000-1758655800@tannpleierforeningen.no
SUMMARY:NTpF avd. Agder- kurs
DESCRIPTION:INVITASJON TIL FAGKURS FOR TANNPLEIERE\nMed mulighet for fysisk oppmøte eller webinar \nVi har gleden av å invitere deg til et spennende og lærerikt kurs med både praktisk demonstrasjon og faglig påfyll. \n\nProgram\n🕘 16.30–18.00 (kun ved fysisk oppmøte) \n\n\nMatservering \n\n\nPresentasjon og demonstrasjon av lupebriller ved Admetec \n\n\n🕘 18.00–19.30 (mulighet for fysisk oppmøte eller webinar) \n\n\nForedrag ved pedodontist Sanja Sapina \n\n\nFaglig påfyll\, praktiske tips og ny innsikt i håndtering av vanlige utfordringer i en klinisk hverdag \n\n\nRelevante temaer også for tannpleiere i privat allmennpraksis \n\n\n\n\n\nPraktisk informasjon\n📅 Dato: Tirsdag 23. september📍 Sted: Fylkeshuset i Kristiansand\, Tordenskjolds gate 25 eller som webinar🗣️ Kursholder: Pedodontist Sanja Sapina👓 Lupebriller: Admetec presenterer og demonstrerer lupebriller (for fysisk oppmøte) \n\nTemaer\n\n\nErosjoner – identifisering\, årsaker og behandlingsstrategier \n\n\nAnestesi og overflateanestesi – praktiske tips for skånsomme og effektive prosedyrer \n\n\nPremedisinering – når kan dette være aktuelt? Viktig kunnskap for tannhelseteamet \n\n\nRivastar – indikasjoner og kontraindikasjoner \n\n\nTraumer hos barn og unge – akutt håndtering og oppfølging over tid \n\n\nLindring av MIH-tenner – symptomlindring og bedring av tannhelse \n\n\n\nMålgruppe\nTannpleiere\, både offentlig og privat ansatte. \n\nPåmelding\n💬 [Sett inn lenke\, e-post eller telefonnummer for påmelding]💰 Kursavgift: Gratis for medlemmer i NTpF avd. Agder. Kr 250 for øvrige medlemmer.📌 Påmeldingsfrist: 19. september \n👉 Det serveres asiatisk mat ved fysisk oppmøte. Gi beskjed om matallergier eller andre hensyn til: camilla.lyngstad@agderfk.no⚠️ Begrenset antall plasser for fysisk oppmøte – meld deg på i dag! \n\nLes mer og Meld deg på her
URL:https://tannpleierforeningen.no/aktivitetskalender/ntpf-avd-agder-kurs/
LOCATION:Digitalt
CATEGORIES:Kurs,Lokalavdeling
END:VEVENT
END:VCALENDAR