BEGIN:VCALENDAR
VERSION:2.0
PRODID:-//Norsk Tannpleierforenings medlemsside - ECPv6.15.20//NONSGML v1.0//EN
CALSCALE:GREGORIAN
METHOD:PUBLISH
X-WR-CALNAME:Norsk Tannpleierforenings medlemsside
X-ORIGINAL-URL:https://tannpleierforeningen.no
X-WR-CALDESC:Arrangement for Norsk Tannpleierforenings medlemsside
REFRESH-INTERVAL;VALUE=DURATION:PT1H
X-Robots-Tag:noindex
X-PUBLISHED-TTL:PT1H
BEGIN:VTIMEZONE
TZID:Europe/Oslo
BEGIN:DAYLIGHT
TZOFFSETFROM:+0100
TZOFFSETTO:+0200
TZNAME:CEST
DTSTART:20250330T010000
END:DAYLIGHT
BEGIN:STANDARD
TZOFFSETFROM:+0200
TZOFFSETTO:+0100
TZNAME:CET
DTSTART:20251026T010000
END:STANDARD
BEGIN:DAYLIGHT
TZOFFSETFROM:+0100
TZOFFSETTO:+0200
TZNAME:CEST
DTSTART:20260329T010000
END:DAYLIGHT
BEGIN:STANDARD
TZOFFSETFROM:+0200
TZOFFSETTO:+0100
TZNAME:CET
DTSTART:20261025T010000
END:STANDARD
BEGIN:DAYLIGHT
TZOFFSETFROM:+0100
TZOFFSETTO:+0200
TZNAME:CEST
DTSTART:20270328T010000
END:DAYLIGHT
BEGIN:STANDARD
TZOFFSETFROM:+0200
TZOFFSETTO:+0100
TZNAME:CET
DTSTART:20271031T010000
END:STANDARD
END:VTIMEZONE
BEGIN:VEVENT
DTSTART;TZID=Europe/Oslo:20260319T171500
DTEND;TZID=Europe/Oslo:20260319T200000
DTSTAMP:20260421T124920
CREATED:20260130T100954Z
LAST-MODIFIED:20260130T100954Z
UID:10000544-1773940500-1773950400@tannpleierforeningen.no
SUMMARY:NTpF avd. Trøndelag Helfo kurs
DESCRIPTION:NTpF avd. Trøndelag har gleden av å invitere til et målrettet Helfo-kurs for tannpleiere\, holdt av Nina Støveren Hals. Kurset er spesialtilpasset oss og har fokus på de takstene vi faktisk bruker i klinisk praksis. \nFor at kurset skal bli mest mulig relevant\, oppfordrer vi dere til å sende inn spørsmål og problemstillinger dere ønsker belyst. \nPåmeldingsfrist og frist for innsendelse av spørsmål: 1. mars til ntpf.sortrondelag@gmail.com. Begrenset antall plasser. \n\nVi oppfordrer likevel flest mulig til å delta fysisk\, da dette gir bedre mulighet for dialog. Enkel servering. \nPraktisk informasjon: \n·       Sted: Møtelokale\, Sirkus Shopping\, 3. etasje\, Trondheim \n·       Oppmøte: 17.15 \n·       Kursstart: 17.30 \nKun for medlemmer av Trøndelag tannpleierforening. \n\nDet er ikke nødvendig å melde seg på for digital deltakelse – lenke sendes automatisk til alle medlemmer i Trøndelag. \nVennlig hilsen \nTrøndelag tannpleierforening
URL:https://tannpleierforeningen.no/aktivitetskalender/ntpf-avd-trondelag-helfo-kurs/
LOCATION:Trondheim\, Norge
CATEGORIES:Kurs,Lokalavdeling
ATTACH;FMTTYPE=image/jpeg:https://tannpleierforeningen.no/wp-content/uploads/studere-kurs-digitat-AdobeStock_371253262-scaled.jpeg
END:VEVENT
BEGIN:VEVENT
DTSTART;TZID=Europe/Oslo:20260326T190000
DTEND;TZID=Europe/Oslo:20260326T200000
DTSTAMP:20260421T124920
CREATED:20260216T134953Z
LAST-MODIFIED:20260310T130539Z
UID:10000546-1774551600-1774555200@tannpleierforeningen.no
SUMMARY:Webinar mesting for pasient og tannpleier- Grasp
DESCRIPTION:Les mer og meld deg på her\n\nMestring for pasient – og tannpleier -gratis webinar\nGrasp – en ny innovativ mestringsløsning for barn og unge i tannlegestolen\nMange barn og unge opplever tannbehandling som utrygg og krevende. Stress\, usikkerhet og manglende kontroll kan gjøre kommunikasjonen vanskelig og behandlingen mer utfordrende – både for pasienten og for behandleren.\nGrasp er utviklet av helsepersonell for å hjelpe pasienter med å mestre slike situasjoner. Løsningen kombinerer aktiv distraksjon\, sensorisk interaksjon og enkel kommunikasjon mellom pasient og behandler. Målet er å hjelpe pasienten til å regulere stress\, føle seg tryggere og delta mer aktivt i behandlingssituasjonen.\nNy forskning fra samarbeid mellom Universitetet i Bergen\, Haukeland universitetssykehus og den offentlige tannhelsetjenesten viser at bruk av Grasp kan styrke kommunikasjonen mellom pasient og tannbehandler under behandling. I en kontrollert studie rapporterte barn og ungdom som brukte Grasp at det ble lettere å si fra under behandling\, og at de hadde større tillit til at tannlegen forstod hvordan de hadde det.\nI dette webinaret vil du få:\n– Innsikt i forskningsresultater fra bruk av Grasp i behandling av barn og unge\n– En introduksjon til hvordan løsningen fungerer i klinisk praksis\n– Erfaringer fra tannpleiere som allerede har tatt Grasp i bruk i klinikken\n– Informasjon om hvordan klinikker kan ta i bruk løsningen\nWebinaret passer spesielt for tannpleiere som arbeider med barn og unge\, og som ønsker flere verktøy for å skape tryggere og mer forutsigbare behandlingssituasjoner.\nTidspunkt: Torsdag 26. mars kl. 19.00–20.00\nLes mer om Grasp:\nhttps://grasp.global/
URL:https://tannpleierforeningen.no/aktivitetskalender/webinar-grasp/
LOCATION:Digitalt
CATEGORIES:Kurs
END:VEVENT
BEGIN:VEVENT
DTSTART;VALUE=DATE:20260330
DTEND;VALUE=DATE:20260331
DTSTAMP:20260421T124920
CREATED:20220711T093251Z
LAST-MODIFIED:20220711T094824Z
UID:10000423-1774828800-1774915199@tannpleierforeningen.no
SUMMARY:Søknadsfrist kursstipendordning 1. halvår
DESCRIPTION:Les mer om stipendordningen her
URL:https://tannpleierforeningen.no/aktivitetskalender/soknadsfrist-kursstipendordning-1-halvar/2026-03-30/
CATEGORIES:Påminnelse
ATTACH;FMTTYPE=image/jpeg:https://tannpleierforeningen.no/wp-content/uploads/Stipendordning-illustrasjonsbilde.jpg
ORGANIZER;CN="Norsk Tannpleierforening":MAILTO:post@tannpleier.no
END:VEVENT
END:VCALENDAR